BEGIN:VCALENDAR
VERSION:2.0
PRODID:-//Térszínház - ECPv6.15.11//NONSGML v1.0//EN
CALSCALE:GREGORIAN
METHOD:PUBLISH
X-WR-CALNAME:Térszínház
X-ORIGINAL-URL:https://terszinhaz.hu
X-WR-CALDESC:Események Térszínház
REFRESH-INTERVAL;VALUE=DURATION:PT1H
X-Robots-Tag:noindex
X-PUBLISHED-TTL:PT1H
BEGIN:VTIMEZONE
TZID:Europe/Budapest
BEGIN:DAYLIGHT
TZOFFSETFROM:+0100
TZOFFSETTO:+0200
TZNAME:CEST
DTSTART:20230326T010000
END:DAYLIGHT
BEGIN:STANDARD
TZOFFSETFROM:+0200
TZOFFSETTO:+0100
TZNAME:CET
DTSTART:20231029T010000
END:STANDARD
BEGIN:DAYLIGHT
TZOFFSETFROM:+0100
TZOFFSETTO:+0200
TZNAME:CEST
DTSTART:20240331T010000
END:DAYLIGHT
BEGIN:STANDARD
TZOFFSETFROM:+0200
TZOFFSETTO:+0100
TZNAME:CET
DTSTART:20241027T010000
END:STANDARD
BEGIN:DAYLIGHT
TZOFFSETFROM:+0100
TZOFFSETTO:+0200
TZNAME:CEST
DTSTART:20250330T010000
END:DAYLIGHT
BEGIN:STANDARD
TZOFFSETFROM:+0200
TZOFFSETTO:+0100
TZNAME:CET
DTSTART:20251026T010000
END:STANDARD
END:VTIMEZONE
BEGIN:VEVENT
DTSTART;TZID=Europe/Budapest:20240115T190000
DTEND;TZID=Europe/Budapest:20240115T201000
DTSTAMP:20260423T113212
CREATED:20231216T023327Z
LAST-MODIFIED:20231223T050207Z
UID:272-1705345200-1705349400@terszinhaz.hu
SUMMARY:A Vigéc
DESCRIPTION:JEGYVÁSÁRLÁS ITT\nA rendező naplójából: \nPáskándi Géza A vigéc című zord bohózatában nemzeti megmaradásunkról\, hagyományaink\, értékeink megőrzéséről szól. Az abszurdoid középpontjában egy család áll. Töredékes család. Korosodó házaspár és egy szem leányuk. Köznapi életüket egy jövevény\, egy kereskedelmi utazó\, egy háztartási gépekkel házaló vigéc zavarja fel.\nEz a törpe\, ez a zsugorított Mefisztó a jobb élet reményéért cserébe nagy árat kér tőlük. Anyanyelvük\, történelmük\, kultúrájuk elfelejtését. \nA dráma zord bohózat. Pillanatkép történelmi létünk képtelenségéről. Szemléletét hitvitázó drámáink élessége és a székely viccek akasztófahumora jellemzi. Az író gyötrelmesen éli meg művében a magyarság fenyegetettségét\, de van benne annyi kurázsi\, hogy a magyar dal hősét kövesse: mikor immár halálfia\, ránk nevet mégis.\nPáskándi darabjának időszerűsége aligha kétséges\, ízig-vérig mai\, sokat merít a kommedia dell’arte hagyományaiból. \nNE FOGJA ŐT A FELEDÉS! \nPénzes Ciprián\, kereskedelmi utazó – Csuka János\nKádas József\, nyugdíjas – Janik László\nMargit\, a neje – Szamosvári Gyöngyvér\nZsuzsa\, a lányuk – Kelecsényi Panni\nSzunnyai\, az albérlőjük – Téglás Márton \nTechnika: Braun Barna \nRendezte – Bucz Hunor (Jászai Mari-díjas) \nJEGYVÁSÁRLÁS ITT
URL:https://terszinhaz.hu/musor/a-vigec/
LOCATION:Térszínház\, Fő tér 1\, Budapest\, Budapest\, 1033\, Magyarország
CATEGORIES:Színház
ATTACH;FMTTYPE=image/jpeg:https://terszinhaz.hu/wp-content/uploads/2023/12/Vigec_fb-esemeny-borito-4.jpg
END:VEVENT
END:VCALENDAR