BEGIN:VCALENDAR
VERSION:2.0
PRODID:-//Térszínház - ECPv6.15.11//NONSGML v1.0//EN
CALSCALE:GREGORIAN
METHOD:PUBLISH
X-ORIGINAL-URL:https://terszinhaz.hu
X-WR-CALDESC:Események Térszínház
REFRESH-INTERVAL;VALUE=DURATION:PT1H
X-Robots-Tag:noindex
X-PUBLISHED-TTL:PT1H
BEGIN:VTIMEZONE
TZID:Europe/Budapest
BEGIN:DAYLIGHT
TZOFFSETFROM:+0100
TZOFFSETTO:+0200
TZNAME:CEST
DTSTART:20230326T010000
END:DAYLIGHT
BEGIN:STANDARD
TZOFFSETFROM:+0200
TZOFFSETTO:+0100
TZNAME:CET
DTSTART:20231029T010000
END:STANDARD
BEGIN:DAYLIGHT
TZOFFSETFROM:+0100
TZOFFSETTO:+0200
TZNAME:CEST
DTSTART:20240331T010000
END:DAYLIGHT
BEGIN:STANDARD
TZOFFSETFROM:+0200
TZOFFSETTO:+0100
TZNAME:CET
DTSTART:20241027T010000
END:STANDARD
BEGIN:DAYLIGHT
TZOFFSETFROM:+0100
TZOFFSETTO:+0200
TZNAME:CEST
DTSTART:20250330T010000
END:DAYLIGHT
BEGIN:STANDARD
TZOFFSETFROM:+0200
TZOFFSETTO:+0100
TZNAME:CET
DTSTART:20251026T010000
END:STANDARD
END:VTIMEZONE
BEGIN:VEVENT
DTSTART;TZID=Europe/Budapest:20240228T190000
DTEND;TZID=Europe/Budapest:20240228T201000
DTSTAMP:20260423T083757
CREATED:20240111T055046Z
LAST-MODIFIED:20240130T100841Z
UID:566-1709146800-1709151000@terszinhaz.hu
SUMMARY:Antigoné - TELTHÁZ
DESCRIPTION:Szophoklész Antigonéját 1996-ban mutattuk be\, a fokozott érdeklődésre való tekintettel\, azóta is folyamatosan műsoron tartjuk. Rendezője\, a Jászai Mari-díjas Bucz Hunor 2022-ben eltávozott közülünk\, így az előadás felújításának és életben tartásának feladata az itt maradt művésztársakra szállt. Nagy örömünkre\nKaj Ádám\, mint a felújítórendező munkatársa és Eperjes Károly\, Kossuth- és Jászai-díjas művész\, mint felújítórendező vesz részt a produkcióban. Mindketten személyes kapcsolatot ápoltak Bucz Hunorral\, színházi nyelvének és ars poeticájának értő tolmácsolói. A felújított előadásban 3 új színművészt is köszönthetünk: Kelecsényi Pannit\, Wettstein Márkot és Szakács Tibort. \nA rendező naplójából: \nAz állam és az egy szem emberi lény egymást megtűrő együttélése sikertelen.\nAz emberiség története dicstelen kísérletek sora. Az állam ethosza és az ember méltósága kibékíthetetlenül szemben állnak. Jaj annak\, aki megtestesíteni készül bármelyiket… Jaj Kreónnak és jaj Antigonénak. A teremtés bűne ez. \n“Kreón: Holtan se méltó szeretetre gyűlölőnk.\nAntigoné: Az én vezérem szeretet\, nem gyűlölet.\nKreón: Vezéreljen az Alvilágba: ott szeress!” \nSzereposztás\, alkotók: \nAntigoné: Papp Annamária\nTeiresziász\, Iszméné: Kelecsényi Panni (két szerepben)\nŐr: Csuka János\nHaimon: Wettstein Márk\nKreón: Téglás Márton\nKarvezető: Szakács tibor\nThébai vének: Kecskeméti Róbert\, Wettstein Márk\, Szamosvári Gyöngyvér \nMaszk: Perger László\nJelmez: Zanotta Veronika\nÁrnykép: Kovács J. István\nFény: Braun Barna\nAsszisztens: Orbán Estilla \nProdukciós vezető: Bucz Magor (Junior Prima-díjas)\nA felújítórendező munkatársa: Kaj Ádám \nFelújítórendező: Eperjes Károly (Kossuth- és Jászai-díjas) \nRendezte: Bucz Hunor (Jászai-díjas)
URL:https://terszinhaz.hu/musor/antigone-7/
LOCATION:Térszínház\, Fő tér 1\, Budapest\, Budapest\, 1033\, Magyarország
CATEGORIES:Színház
ATTACH;FMTTYPE=image/jpeg:https://terszinhaz.hu/wp-content/uploads/2023/11/tixa_cover.jpg
END:VEVENT
END:VCALENDAR