BEGIN:VCALENDAR
VERSION:2.0
PRODID:-//Térszínház - ECPv6.15.11//NONSGML v1.0//EN
CALSCALE:GREGORIAN
METHOD:PUBLISH
X-ORIGINAL-URL:https://terszinhaz.hu
X-WR-CALDESC:Események Térszínház
REFRESH-INTERVAL;VALUE=DURATION:PT1H
X-Robots-Tag:noindex
X-PUBLISHED-TTL:PT1H
BEGIN:VTIMEZONE
TZID:Europe/Budapest
BEGIN:DAYLIGHT
TZOFFSETFROM:+0100
TZOFFSETTO:+0200
TZNAME:CEST
DTSTART:20230326T010000
END:DAYLIGHT
BEGIN:STANDARD
TZOFFSETFROM:+0200
TZOFFSETTO:+0100
TZNAME:CET
DTSTART:20231029T010000
END:STANDARD
BEGIN:DAYLIGHT
TZOFFSETFROM:+0100
TZOFFSETTO:+0200
TZNAME:CEST
DTSTART:20240331T010000
END:DAYLIGHT
BEGIN:STANDARD
TZOFFSETFROM:+0200
TZOFFSETTO:+0100
TZNAME:CET
DTSTART:20241027T010000
END:STANDARD
BEGIN:DAYLIGHT
TZOFFSETFROM:+0100
TZOFFSETTO:+0200
TZNAME:CEST
DTSTART:20250330T010000
END:DAYLIGHT
BEGIN:STANDARD
TZOFFSETFROM:+0200
TZOFFSETTO:+0100
TZNAME:CET
DTSTART:20251026T010000
END:STANDARD
END:VTIMEZONE
BEGIN:VEVENT
DTSTART;VALUE=DATE:20240323
DTEND;VALUE=DATE:20240324
DTSTAMP:20260423T083916
CREATED:20240213T204918Z
LAST-MODIFIED:20241022T123129Z
UID:769-1711152000-1711238399@terszinhaz.hu
SUMMARY:A Térszínház a Budapesti Színházak Éjszakáján - részletes program
DESCRIPTION:15:00 – Pinkó és a szegényember – bukovinai székely népmese nyomán\nPinkó\, az ördög fia nagy árat fizet azért\, mert torkosságában megette a szegényember puliszkáját. Varázslatos erejével szolgálja három évig\, és így busásan megtérül a szegényember kára. A mese tanulsága\, hogy “Bizony\, bizony sokszor még az ördög fia is tisztességesebb\, mint egynémely mai uraság.” 7 éves kortól ajánljuk.\nElőadás után színpadbejárás és gyermektáncház.\nJátsszák: Kecskeméti Róbert\, Téglás Márton\, Bódi Beáta\, Kovács J. István\, Szamosvári Gyöngyvér.\nRendezte: Bucz Hunor /Jászai-díjas/ \nJEGYVÁSÁRLÁS ITT\n19:00 – Antigoné\nSzophoklész Antigonéját 1996-ban mutattuk be\, a fokozott érdeklődésre való tekintettel\, azóta is folyamatosan műsoron tartjuk. Rendezője\, a Jászai Mari-díjas Bucz Hunor\, aki 2022-ben eltávozott közülünk\, így az előadás életben tartásának feladata az itt maradottakra szállt. Eperjes Károly\, Kossuth- és Jászai-díjas művész\, mint felújítórendező vette szárnyai alá a produkciót.\nA rendező naplójából: Az állam és az egy szem emberi lény egymást megtűrő együttélése sikertelen. Az emberiség története dicstelen kísérletek sora. Az állam ethosza és az ember méltósága kibékíthetetlenül szemben állnak. Jaj annak\, aki megtestesíteni készül bármelyiket… A teremtés bűne ez. Jaj Kreónnak és jaj Antigonénak.\nSzereposztás:\nAntigoné: Papp Annamária\nTeiresziász\, Iszméné: Kelecsényi Panni (két szerepben)\nŐr: Csuka János\nHaimon: Wettstein Márk\nKreón: Téglás Márton\nKarvezető: Szakács tibor\nThébai vének: Kecskeméti Róbert\, Wettstein Márk\, Szamosvári Gyöngyvér\nMaszk: Perger László\nJelmez: Zanotta Veronika\nÁrnykép: Kovács J. István\nFény: Braun Barna\nAsszisztens: Orbán Estilla\nProdukciós vezető: Bucz Magor (Junior Prima-díjas)\nA felújítórendező munkatársa: Kaj Ádám\nFelújítórendező: Eperjes Károly (Kossuth- és Jászai-díjas)\nRendezte: Bucz Hunor (Jászai-díjas) \nJEGYVÁSÁRLÁS ITT\n22:00 MOODS – relaxing / post-classical babzsákkoncert\nBucz Magor Junior Prima-díjas zeneszerző és zongorista MOODS-sorozata egy improvizatív elemekre épülő\, kötetlen zenei napló. Benne ötvöződik a relaxációs\, ambient\, chill out\, minimalista hangvétel a klasszikuszenei és filmzenei eszköztárral\, valamint elektroakusztikus atmoszférákkal. Így képződik meg egy relatív új\, meditatív jellegű kortárszenei irányzat: a posztklasszikus stílus.\nA mintegy 70 perces szeánsz szerű hangverseny célja\, hogy nyugalmas\, relaxált állapotba kerülve találjanak egymásra előadók és hallgatóság. Babzsákokra is lehet heverni\, hogy maximális kényelemben fogadhassuk be a megnyugtató zenéket és zenei alapokra elhangzó verseket. A koncert segít magunk mögött hagyni a stresszes hétköznapokat és tökéletes lehet napzáró eseménynek.\nKözreműködnek:\nHotzi Mátyás /Junior Prima-díjas/ – cselló\nRiesz Péter – gitár\nOrban Johanna – ének\nBucz Magor /Junior Prima-díjas/ – zeneszerző\, zongora\, elektronika \n  \nAz előadás része a Térszínház alapító-igazgatójára\, Bucz Hunorra emlékező programsorozatunknak. A programsorozat fő támogatója: Kulturális és Innovációs Minisztérium.  \nJEGYVÁSÁRLÁS ITT
URL:https://terszinhaz.hu/musor/a-terszinhaz-a-budapesti-szinhazak-ejszakajan-reszletes-program/
CATEGORIES:Színház
ATTACH;FMTTYPE=image/jpeg:https://terszinhaz.hu/wp-content/uploads/2024/02/budapesti-szinhazak-ejszakaja-2024-karszalagra-bevaltando-belepo-original-226096.jpg
END:VEVENT
END:VCALENDAR