BEGIN:VCALENDAR
VERSION:2.0
PRODID:-//Térszínház - ECPv6.15.11//NONSGML v1.0//EN
CALSCALE:GREGORIAN
METHOD:PUBLISH
X-ORIGINAL-URL:https://terszinhaz.hu
X-WR-CALDESC:Események Térszínház
REFRESH-INTERVAL;VALUE=DURATION:PT1H
X-Robots-Tag:noindex
X-PUBLISHED-TTL:PT1H
BEGIN:VTIMEZONE
TZID:Europe/Budapest
BEGIN:DAYLIGHT
TZOFFSETFROM:+0100
TZOFFSETTO:+0200
TZNAME:CEST
DTSTART:20230326T010000
END:DAYLIGHT
BEGIN:STANDARD
TZOFFSETFROM:+0200
TZOFFSETTO:+0100
TZNAME:CET
DTSTART:20231029T010000
END:STANDARD
BEGIN:DAYLIGHT
TZOFFSETFROM:+0100
TZOFFSETTO:+0200
TZNAME:CEST
DTSTART:20240331T010000
END:DAYLIGHT
BEGIN:STANDARD
TZOFFSETFROM:+0200
TZOFFSETTO:+0100
TZNAME:CET
DTSTART:20241027T010000
END:STANDARD
BEGIN:DAYLIGHT
TZOFFSETFROM:+0100
TZOFFSETTO:+0200
TZNAME:CEST
DTSTART:20250330T010000
END:DAYLIGHT
BEGIN:STANDARD
TZOFFSETFROM:+0200
TZOFFSETTO:+0100
TZNAME:CET
DTSTART:20251026T010000
END:STANDARD
END:VTIMEZONE
BEGIN:VEVENT
DTSTART;TZID=Europe/Budapest:20240325T190000
DTEND;TZID=Europe/Budapest:20240325T203000
DTSTAMP:20260423T083916
CREATED:20240301T143903Z
LAST-MODIFIED:20241022T123210Z
UID:900-1711393200-1711398600@terszinhaz.hu
SUMMARY:A kereszt alatt – húsvéti szcenírozott oratórium
DESCRIPTION:Ha az évkör ünnepeire gondot fordítunk\, sokat teszünk azért\, hogy otthon érezzük magunkat a világban. Ennek szellemében született a Térszínház koncertszínházi szcenírozott oratóriuma\, amely Szűz Mária fájdalmát helyezi a középpontba. Az előadásban életre kel a Winkler-kódex devóciós passiója: a Mária-siralom (1506)\, valamint fiatal zeneművészek tolmácsolásában elhangzik Pergolesi Stabat Mater című oratóriuma. Az előadáson a Térszínház 2022-ben elhunyt alapító igazgatójára\, Bucz Hunorra is emlékezünk. \nKözreműködők: \nSzínèsz – Szamosvári Gyöngyvér\nSzínész – Téglás Márton\nSzoprán – Kalafszky Adriána\nKontratenor – Daragó Zoltán\nAz oratóriumban közreműködik a MilleniArt Ensemble barokk zenekara Király Eszter vezényletével. \nSzínpadkép – Perger László Gyula\nZenei vezető – Bucz Magor (Junior Prima-díjas) \nRendező – Bucz Hunor (Jászai Mari-díjas) \nAz előadás része a Térszínház alapító-igazgatójára\, Bucz Hunorra emlékező programsorozatunknak. A programsorozat fő támogatója: Kulturális és Innovációs Minisztérium.  \nJEGYVÁSÁRLÁS ITT
URL:https://terszinhaz.hu/musor/a-kereszt-alatt-husveti-szcenirozott-oratorium/
CATEGORIES:Színház,Zene
ATTACH;FMTTYPE=image/jpeg:https://terszinhaz.hu/wp-content/uploads/2024/03/A-kereszt-alatt.jpg
END:VEVENT
END:VCALENDAR