BEGIN:VCALENDAR
VERSION:2.0
PRODID:-//Térszínház - ECPv6.15.11//NONSGML v1.0//EN
CALSCALE:GREGORIAN
METHOD:PUBLISH
X-WR-CALNAME:Térszínház
X-ORIGINAL-URL:https://terszinhaz.hu
X-WR-CALDESC:Események Térszínház
REFRESH-INTERVAL;VALUE=DURATION:PT1H
X-Robots-Tag:noindex
X-PUBLISHED-TTL:PT1H
BEGIN:VTIMEZONE
TZID:Europe/Budapest
BEGIN:DAYLIGHT
TZOFFSETFROM:+0100
TZOFFSETTO:+0200
TZNAME:CEST
DTSTART:20230326T010000
END:DAYLIGHT
BEGIN:STANDARD
TZOFFSETFROM:+0200
TZOFFSETTO:+0100
TZNAME:CET
DTSTART:20231029T010000
END:STANDARD
BEGIN:DAYLIGHT
TZOFFSETFROM:+0100
TZOFFSETTO:+0200
TZNAME:CEST
DTSTART:20240331T010000
END:DAYLIGHT
BEGIN:STANDARD
TZOFFSETFROM:+0200
TZOFFSETTO:+0100
TZNAME:CET
DTSTART:20241027T010000
END:STANDARD
BEGIN:DAYLIGHT
TZOFFSETFROM:+0100
TZOFFSETTO:+0200
TZNAME:CEST
DTSTART:20250330T010000
END:DAYLIGHT
BEGIN:STANDARD
TZOFFSETFROM:+0200
TZOFFSETTO:+0100
TZNAME:CET
DTSTART:20251026T010000
END:STANDARD
END:VTIMEZONE
BEGIN:VEVENT
DTSTART;TZID=Europe/Budapest:20240415T190000
DTEND;TZID=Europe/Budapest:20240415T210000
DTSTAMP:20260423T071346
CREATED:20240404T083134Z
LAST-MODIFIED:20250123T153210Z
UID:1214-1713207600-1713214800@terszinhaz.hu
SUMMARY:Szókrátész védőbeszéde – tantermi színház
DESCRIPTION:Kr. e. 399 tavaszán Szókratész 70 éves volt\, amikor kiitta a méregpoharat. Élete összeforrt Athénnel: ifjúként a polisz fénykorát csodálhatta\, érett férfiként harcolt a Spárta elleni csatákban\, végül látnia kell\, ahogy szeretett városát a gátlástalan demagógok és kalandorok miatt polgárháború dúlja fel. Spártai katonák az Akropoliszon\, arisztokraták véres terrorja majd elűzése\, amnesztiával visszatérő árulók\, igazságtételt követelő üldözöttek… Helyre áll a démosz rendje\, de kik a felelősök a megalázó vereségéért\, az erkölcsi romlásáért? Ilyen légkörben kerül sor Szókratész perére. A felelős értelmiség a maga erkölcsi helytállását a bölcs férfiú halála óta hozzá méri. Történelmet\, etikát tanuló középiskolásoknak\, értelmiségi pályára készülőknek szeretnénk élményszerű képet adni a filozófia atyjának állhatatos alakjáról. \nKözreműködők: Kovács J. István és Szamosvári Gyöngyvér. \nA belépődíj a helyszínen: 500 Ft.\, óbudai diákoknak és lakosoknak ingyenes. \nJegyek előrendelése telefonon (+36303919765) és e-mailben (terszinhaz@gmail.com).
URL:https://terszinhaz.hu/musor/szokratesz-vedobeszede-rendhagyo-ora/
LOCATION:Térszínház\, Fő tér 1\, Budapest\, Budapest\, 1033\, Magyarország
CATEGORIES:Rendhagyó óra
ATTACH;FMTTYPE=image/png:https://terszinhaz.hu/wp-content/uploads/2024/04/1.png
END:VEVENT
END:VCALENDAR