BEGIN:VCALENDAR
VERSION:2.0
PRODID:-//Térszínház - ECPv6.15.11//NONSGML v1.0//EN
CALSCALE:GREGORIAN
METHOD:PUBLISH
X-ORIGINAL-URL:https://terszinhaz.hu
X-WR-CALDESC:Események Térszínház
REFRESH-INTERVAL;VALUE=DURATION:PT1H
X-Robots-Tag:noindex
X-PUBLISHED-TTL:PT1H
BEGIN:VTIMEZONE
TZID:Europe/Budapest
BEGIN:DAYLIGHT
TZOFFSETFROM:+0100
TZOFFSETTO:+0200
TZNAME:CEST
DTSTART:20230326T010000
END:DAYLIGHT
BEGIN:STANDARD
TZOFFSETFROM:+0200
TZOFFSETTO:+0100
TZNAME:CET
DTSTART:20231029T010000
END:STANDARD
BEGIN:DAYLIGHT
TZOFFSETFROM:+0100
TZOFFSETTO:+0200
TZNAME:CEST
DTSTART:20240331T010000
END:DAYLIGHT
BEGIN:STANDARD
TZOFFSETFROM:+0200
TZOFFSETTO:+0100
TZNAME:CET
DTSTART:20241027T010000
END:STANDARD
BEGIN:DAYLIGHT
TZOFFSETFROM:+0100
TZOFFSETTO:+0200
TZNAME:CEST
DTSTART:20250330T010000
END:DAYLIGHT
BEGIN:STANDARD
TZOFFSETFROM:+0200
TZOFFSETTO:+0100
TZNAME:CET
DTSTART:20251026T010000
END:STANDARD
END:VTIMEZONE
BEGIN:VEVENT
DTSTART;TZID=Europe/Budapest:20240504T100000
DTEND;TZID=Europe/Budapest:20240504T180000
DTSTAMP:20260423T053251
CREATED:20240501T052907Z
LAST-MODIFIED:20240501T052907Z
UID:1222-1714816800-1714845600@terszinhaz.hu
SUMMARY:38 éve Óbudán
DESCRIPTION:Az elmúlt 38 év bemutatása\, a színház bejárása\, interaktív játékok\, és történetek\, kiállítás és filmvetítés. \nTótágas\, vásári képmutogatók\, Magyarföldi szentek\, interaktív játékok és történetek \nTársulatunk újította meg ezt a régi népszínházi formát\, ahol képekben elevenedik meg egy-egy klasszikus történet: Mátyás király látogatása Kolozsvárott\, Káposzta Sári históriája\, vagy éppen Krisztus urunk kalandja egy alföldi csárdában. E könnyen utazó mini színházi forma által utcai\, vásári forgatagban is egymásra talál a népmese\, a nemes irodalom (Arany János\, Pákolitz István) és a szórakozni vágyó felnőtt és gyerek közönség. A képmutogatókat ének\, körtánc\, interaktív játék színesíti.  \n10:00 – 18:00\nA belépés egész nap díjtalan!
URL:https://terszinhaz.hu/musor/38-eve-obudan/
CATEGORIES:Egyéb esemény
ATTACH;FMTTYPE=image/jpeg:https://terszinhaz.hu/wp-content/uploads/2024/05/ter_cova_11.jpg
END:VEVENT
END:VCALENDAR