BEGIN:VCALENDAR
VERSION:2.0
PRODID:-//Térszínház - ECPv6.15.11//NONSGML v1.0//EN
CALSCALE:GREGORIAN
METHOD:PUBLISH
X-WR-CALNAME:Térszínház
X-ORIGINAL-URL:https://terszinhaz.hu
X-WR-CALDESC:Események Térszínház
REFRESH-INTERVAL;VALUE=DURATION:PT1H
X-Robots-Tag:noindex
X-PUBLISHED-TTL:PT1H
BEGIN:VTIMEZONE
TZID:Europe/Budapest
BEGIN:DAYLIGHT
TZOFFSETFROM:+0100
TZOFFSETTO:+0200
TZNAME:CEST
DTSTART:20240331T010000
END:DAYLIGHT
BEGIN:STANDARD
TZOFFSETFROM:+0200
TZOFFSETTO:+0100
TZNAME:CET
DTSTART:20241027T010000
END:STANDARD
BEGIN:DAYLIGHT
TZOFFSETFROM:+0100
TZOFFSETTO:+0200
TZNAME:CEST
DTSTART:20250330T010000
END:DAYLIGHT
BEGIN:STANDARD
TZOFFSETFROM:+0200
TZOFFSETTO:+0100
TZNAME:CET
DTSTART:20251026T010000
END:STANDARD
BEGIN:DAYLIGHT
TZOFFSETFROM:+0100
TZOFFSETTO:+0200
TZNAME:CEST
DTSTART:20260329T010000
END:DAYLIGHT
BEGIN:STANDARD
TZOFFSETFROM:+0200
TZOFFSETTO:+0100
TZNAME:CET
DTSTART:20261025T010000
END:STANDARD
END:VTIMEZONE
BEGIN:VEVENT
DTSTART;TZID=Europe/Budapest:20250122T190000
DTEND;TZID=Europe/Budapest:20250122T200000
DTSTAMP:20260422T163457
CREATED:20250110T142411Z
LAST-MODIFIED:20260123T142708Z
UID:1296-1737572400-1737576000@terszinhaz.hu
SUMMARY:Levél a föld alól - in memoriam Hervay Gizella
DESCRIPTION:Levél a Föld alól\, in memoriam Hervay Gizella \n– verses est – \nAz esten a tragikus sorsú költőnő\, Hervay Gizella versei\, verseinek megzenésítései és azokhoz kapcsolódó szakrális énekek hangoznak el. Egy különleges\, csángóföldről származó hangszer is megszólal\, a gardon. A rituális jellegű előadás a szatmárcsekei temetőből ismert\, csónak formájú fejfa körül játszódik. Három jelentés préselődik egymásra: Jézus Golgotája\, a magyarság történelemi tragikuma és a költőnő személyes drámája. Költői életműve megkerülhetetlen és mértékadó mindannyiunknak. \nHervay Gizella Makón született 1934. október 10-én\, elhunyt 1982. július 2-án Budapesten. 1945-től 1975-ig a Partiumban és Erdélyben\, illetve Bukarestben élt. Válása után egyedül nem győzte a küszködést\, és 1976-ban Magyarországra menekült a romániai zaklatások\, fenyegetések elől\, így egy ideig Óbudán lakott. A Lódenkabát Kelet Európa szegén verses kötete készültekor gyakran találkozhatott vele a Térszínház társulata és közönsége\, hiszen szerette előadásainkat és ünnepeinkkor sok kedves népdalt tanított nekünk. Fiának tragikusan korai halála és a magyar kivetettség felőrli életét\, mégis földöntúli erővel megírja a sors által rábízott verseket. Utolsó kötetét nyomdába adja\, de már nem várja meg a megjelenést\, önkezével vet véget életének. \nAz előadás rendezőjét\, a Jászai-díjas Bucz Hunort személyes és közeli kapcsolat fűzte Hervay Gizellához. \nJÁTSSZÁK:Zichy-kastély\nSzamosvári Gyöngyvér\, Papp Annamária \nRENDEZTE:\nBucz Hunor (Jászai Mari-díjas) \n  \n  \n\nTámogató: Nemzeti Kulturális Alap https://www.nka.hu \n  \n  \nÓbudai lakcímkártyával rendelkező nézőink kedvezményesen válthatnak jegyet az előadásra\, korlátozott számban.  \nRegisztráció telefonon: +36-1-388-4310
URL:https://terszinhaz.hu/musor/level-a-fold-alol-in-memoriam-hervay-gizella-7/
LOCATION:Térszínház\, Fő tér 1\, Budapest\, Budapest\, 1033\, Magyarország
CATEGORIES:Irodalom,Színház
ATTACH;FMTTYPE=image/jpeg:https://terszinhaz.hu/wp-content/uploads/2023/10/10322870_843410799006846_606724626_n-1.jpg
END:VEVENT
END:VCALENDAR