BEGIN:VCALENDAR
VERSION:2.0
PRODID:-//Térszínház - ECPv6.15.11//NONSGML v1.0//EN
CALSCALE:GREGORIAN
METHOD:PUBLISH
X-ORIGINAL-URL:https://terszinhaz.hu
X-WR-CALDESC:Események Térszínház
REFRESH-INTERVAL;VALUE=DURATION:PT1H
X-Robots-Tag:noindex
X-PUBLISHED-TTL:PT1H
BEGIN:VTIMEZONE
TZID:Europe/Budapest
BEGIN:DAYLIGHT
TZOFFSETFROM:+0100
TZOFFSETTO:+0200
TZNAME:CEST
DTSTART:20240331T010000
END:DAYLIGHT
BEGIN:STANDARD
TZOFFSETFROM:+0200
TZOFFSETTO:+0100
TZNAME:CET
DTSTART:20241027T010000
END:STANDARD
BEGIN:DAYLIGHT
TZOFFSETFROM:+0100
TZOFFSETTO:+0200
TZNAME:CEST
DTSTART:20250330T010000
END:DAYLIGHT
BEGIN:STANDARD
TZOFFSETFROM:+0200
TZOFFSETTO:+0100
TZNAME:CET
DTSTART:20251026T010000
END:STANDARD
BEGIN:DAYLIGHT
TZOFFSETFROM:+0100
TZOFFSETTO:+0200
TZNAME:CEST
DTSTART:20260329T010000
END:DAYLIGHT
BEGIN:STANDARD
TZOFFSETFROM:+0200
TZOFFSETTO:+0100
TZNAME:CET
DTSTART:20261025T010000
END:STANDARD
END:VTIMEZONE
BEGIN:VEVENT
DTSTART;TZID=Europe/Budapest:20250126T104000
DTEND;TZID=Europe/Budapest:20250126T114000
DTSTAMP:20260422T163703
CREATED:20250123T074446Z
LAST-MODIFIED:20250123T153124Z
UID:1303-1737888000-1737891600@terszinhaz.hu
SUMMARY:MAGYARFÖLDI SZENTEK – önálló fejlesztésű előadás
DESCRIPTION:Előadásunk öt-tíz perces játékokban vonultatja fel a magyar föld szentjeit legendáik alapján\, népdalok\, népi vallásos énekek\, ikonikus képek segítségével. Megidézzük Szent Gellértet\, mártírpüspökünket\, Szent Lászlót\, Erdély védőszentjét\, és a rózsák királynőjét\, Szent Erzsébetet. A középkori táblaképeket idéző és a képmutogató műfaját alkalmazó játékot közös éneklés\, kedvünk szerint tánc is színesíti. \nElőadók: Kovács J. István\, Szamosvári Gyöngyvér \nRendező: Bucz Hunor (Jászai Mari díjas) \nHelyszín: 8220. Balatonalmádi\, Verseny u. 3\,\nCiszterci Rekreációs Központ (CRK)  https://crk.hu/
URL:https://terszinhaz.hu/musor/magyarfoldi-szentek-onallo-fejlesztesu-eloadas-3/
CATEGORIES:Rendhagyó óra
ATTACH;FMTTYPE=image/jpeg:https://terszinhaz.hu/wp-content/uploads/2025/01/Kep1.jpg
END:VEVENT
END:VCALENDAR