BEGIN:VCALENDAR
VERSION:2.0
PRODID:-//Térszínház - ECPv6.15.11//NONSGML v1.0//EN
CALSCALE:GREGORIAN
METHOD:PUBLISH
X-ORIGINAL-URL:https://terszinhaz.hu
X-WR-CALDESC:Események Térszínház
REFRESH-INTERVAL;VALUE=DURATION:PT1H
X-Robots-Tag:noindex
X-PUBLISHED-TTL:PT1H
BEGIN:VTIMEZONE
TZID:Europe/Budapest
BEGIN:DAYLIGHT
TZOFFSETFROM:+0100
TZOFFSETTO:+0200
TZNAME:CEST
DTSTART:20240331T010000
END:DAYLIGHT
BEGIN:STANDARD
TZOFFSETFROM:+0200
TZOFFSETTO:+0100
TZNAME:CET
DTSTART:20241027T010000
END:STANDARD
BEGIN:DAYLIGHT
TZOFFSETFROM:+0100
TZOFFSETTO:+0200
TZNAME:CEST
DTSTART:20250330T010000
END:DAYLIGHT
BEGIN:STANDARD
TZOFFSETFROM:+0200
TZOFFSETTO:+0100
TZNAME:CET
DTSTART:20251026T010000
END:STANDARD
BEGIN:DAYLIGHT
TZOFFSETFROM:+0100
TZOFFSETTO:+0200
TZNAME:CEST
DTSTART:20260329T010000
END:DAYLIGHT
BEGIN:STANDARD
TZOFFSETFROM:+0200
TZOFFSETTO:+0100
TZNAME:CET
DTSTART:20261025T010000
END:STANDARD
END:VTIMEZONE
BEGIN:VEVENT
DTSTART;TZID=Europe/Budapest:20250215T160000
DTEND;TZID=Europe/Budapest:20250215T170000
DTSTAMP:20260422T145746
CREATED:20250123T075515Z
LAST-MODIFIED:20250123T081319Z
UID:1312-1739635200-1739638800@terszinhaz.hu
SUMMARY:Tili és Tiló – zenés mesejáték
DESCRIPTION:Ebben a történetben a herceg nem érkezik meg\, hogy megmentse a fiatal lányt\, hanem visszafordul és parkolóőr lesz belőle. A kis habfiú se szeret bele Tilibe\, amikor kimenti. De hamarosan megérkezik egy papírrepülőn Tiló\, aki titokzatos varázserővel bír\, de ezt kezdetben nem akarja elhinni magáról. Közben Tili kitartóan keresi\, kié lehet a tojás\, melyet a történet elején talált. Annyit elárulhatunk\, hogy nem egy békés madárkáé… \nJÁTSSZÁK: Bodor Géza és Kása Tímea \nÍRTA: Acsai Roland\nZENE: Olgyay Gábor\nPRODUKCIÓS VEZETŐ: Kolti Helga \nRENDEZTE: Kaj Ádám \nJEGYÁR:\nOnline elővételben: 2800 Ft\nAz előadás előtt\, a helyszínen: 4000 Ft \nJEGYVÁSÁRLÁS ITT: https://www.tixa.hu/tili-es-tilo-zenes-mesejatek-terszinhaz-20250215 \nA koprodukciós előadás a Térszínház TÉRopen színházi minifesztje keretében valósul meg! \nTovábbi programok és részletek: https://terszinhaz.hu/teropen/
URL:https://terszinhaz.hu/musor/tili-es-tilo-zenes-mesejatek/
LOCATION:Térszínház\, Fő tér 1\, Budapest\, Budapest\, 1033\, Magyarország
CATEGORIES:Színház,TÉRopen
ATTACH;FMTTYPE=image/png:https://terszinhaz.hu/wp-content/uploads/2025/01/teropen_png.png
END:VEVENT
END:VCALENDAR