BEGIN:VCALENDAR
VERSION:2.0
PRODID:-//Térszínház - ECPv6.15.11//NONSGML v1.0//EN
CALSCALE:GREGORIAN
METHOD:PUBLISH
X-ORIGINAL-URL:https://terszinhaz.hu
X-WR-CALDESC:Események Térszínház
REFRESH-INTERVAL;VALUE=DURATION:PT1H
X-Robots-Tag:noindex
X-PUBLISHED-TTL:PT1H
BEGIN:VTIMEZONE
TZID:Europe/Budapest
BEGIN:DAYLIGHT
TZOFFSETFROM:+0100
TZOFFSETTO:+0200
TZNAME:CEST
DTSTART:20240331T010000
END:DAYLIGHT
BEGIN:STANDARD
TZOFFSETFROM:+0200
TZOFFSETTO:+0100
TZNAME:CET
DTSTART:20241027T010000
END:STANDARD
BEGIN:DAYLIGHT
TZOFFSETFROM:+0100
TZOFFSETTO:+0200
TZNAME:CEST
DTSTART:20250330T010000
END:DAYLIGHT
BEGIN:STANDARD
TZOFFSETFROM:+0200
TZOFFSETTO:+0100
TZNAME:CET
DTSTART:20251026T010000
END:STANDARD
BEGIN:DAYLIGHT
TZOFFSETFROM:+0100
TZOFFSETTO:+0200
TZNAME:CEST
DTSTART:20260329T010000
END:DAYLIGHT
BEGIN:STANDARD
TZOFFSETFROM:+0200
TZOFFSETTO:+0100
TZNAME:CET
DTSTART:20261025T010000
END:STANDARD
END:VTIMEZONE
BEGIN:VEVENT
DTSTART;TZID=Europe/Budapest:20250221T190000
DTEND;TZID=Europe/Budapest:20250221T200000
DTSTAMP:20260422T145536
CREATED:20250123T082549Z
LAST-MODIFIED:20250123T082549Z
UID:1341-1740164400-1740168000@terszinhaz.hu
SUMMARY:Csak szeress! - koncert-előadás
DESCRIPTION:Ebben a koncert-előadásban (táncdalok szoros egymásutánja\, melyeket vidám jelenetek kötnek egymáshoz) – nevezzük inkább kísérletezésnek: a férfival\, a nővel\, és ezek társas együttélésével\, vagy egymás mellett élésével foglalkozunk. Mi jár egy védtelen nő fejében? Mennyi mindenre hajlandó egy randevúra éhes férfi? Hogy kerül az Anyós a képbe? Mit kell…érdemes…kellett volna… tenni\, ha már nem működik egy kapcsolat? Ezek mind fontos kérdések\, csakúgy\, minthogy kit illet meg egy jól működő házasságban a kenyér sarka… Adott „A” nő (Cseke Brigitta)\, „B” férfi (Szondi Tamás)\, és egy felvilágosult elme\, aki végig kíséri a tétova igazságkeresőket az úton (Molnár Máté). S mindehhez rendkívül fontos a mindent összekötő zene! \nJEGYÁR\nOnline elővételben: 3800 Ft\nAz előadás előtt\, a helyszínen: 4500 Ft \nJEGYVÁSÁRLÁS ITT: https://www.tixa.hu/csak-szeress-terszinhaz-20250221 \nA koprodukciós előadás a Térszínház TÉRopen színházi minifesztje keretében valósul meg! \nTovábbi programok és részletek: https://terszinhaz.hu/teropen/  
URL:https://terszinhaz.hu/musor/csak-szeress-koncert-eloadas/
LOCATION:Térszínház\, Fő tér 1\, Budapest\, Budapest\, 1033\, Magyarország
CATEGORIES:Színház,TÉRopen,Zene
ATTACH;FMTTYPE=image/jpeg:https://terszinhaz.hu/wp-content/uploads/2025/01/csakszeress_png.jpg
END:VEVENT
END:VCALENDAR