BEGIN:VCALENDAR
VERSION:2.0
PRODID:-//Térszínház - ECPv6.15.11//NONSGML v1.0//EN
CALSCALE:GREGORIAN
METHOD:PUBLISH
X-WR-CALNAME:Térszínház
X-ORIGINAL-URL:https://terszinhaz.hu
X-WR-CALDESC:Események Térszínház
REFRESH-INTERVAL;VALUE=DURATION:PT1H
X-Robots-Tag:noindex
X-PUBLISHED-TTL:PT1H
BEGIN:VTIMEZONE
TZID:Europe/Budapest
BEGIN:DAYLIGHT
TZOFFSETFROM:+0100
TZOFFSETTO:+0200
TZNAME:CEST
DTSTART:20240331T010000
END:DAYLIGHT
BEGIN:STANDARD
TZOFFSETFROM:+0200
TZOFFSETTO:+0100
TZNAME:CET
DTSTART:20241027T010000
END:STANDARD
BEGIN:DAYLIGHT
TZOFFSETFROM:+0100
TZOFFSETTO:+0200
TZNAME:CEST
DTSTART:20250330T010000
END:DAYLIGHT
BEGIN:STANDARD
TZOFFSETFROM:+0200
TZOFFSETTO:+0100
TZNAME:CET
DTSTART:20251026T010000
END:STANDARD
BEGIN:DAYLIGHT
TZOFFSETFROM:+0100
TZOFFSETTO:+0200
TZNAME:CEST
DTSTART:20260329T010000
END:DAYLIGHT
BEGIN:STANDARD
TZOFFSETFROM:+0200
TZOFFSETTO:+0100
TZNAME:CET
DTSTART:20261025T010000
END:STANDARD
END:VTIMEZONE
BEGIN:VEVENT
DTSTART;TZID=Europe/Budapest:20250222T190000
DTEND;TZID=Europe/Budapest:20250222T200000
DTSTAMP:20260422T150351
CREATED:20250123T082819Z
LAST-MODIFIED:20250123T082819Z
UID:1343-1740250800-1740254400@terszinhaz.hu
SUMMARY:Az ötször született fiú - komédia
DESCRIPTION:A produkció két színész számára kínál virtuóz játékot\, akik számos szerepet sűrűn váltogatva engednek betekintést egy színházi próbafolyamat kulisszái mögé. \nA népszerű musicalekhez szokott rendező ezúttal prózai stúdióelőadást kénytelen színpadra állítani a meglehetősen öntudatos vezető színésszel\, a fiatal naivával s a színház egy sokat megélt „bútordarabjával”. Többek között az ő kezeik között alakul Az ötször született fiú története\, melyet a naiv író álmodott színpadra. \nKözel hetvenöt percben\, két színésszel\, tizenöt szereppel kínál igényes szórakozást a magyarországi ősbemutató. \nÍRTA\, RENDEZTE\, JÁTSSZA: Majorfalvi Bálint és Téglás Márton \nA Budai komédiások és a Térszínház koprodukciós előadása \nJEGYÁR\nOnline elővételben: 3800 Ft\nAz előadás előtt\, a helyszínen: 4500 Ft \nJEGYVÁSÁRLÁS ITT: https://www.tixa.hu/az-otszor-szuletett-fiu-terszinhaz-20250222 \nAz előadás a Térszínház TÉRopen színházi minifesztje keretében valósul meg! \nTovábbi programok és részletek: https://terszinhaz.hu/teropen/  
URL:https://terszinhaz.hu/musor/az-otszor-szuletett-fiu-komedia/
LOCATION:Térszínház\, Fő tér 1\, Budapest\, Budapest\, 1033\, Magyarország
CATEGORIES:Színház,TÉRopen
ATTACH;FMTTYPE=image/png:https://terszinhaz.hu/wp-content/uploads/2025/01/otszotszul_png.png
END:VEVENT
END:VCALENDAR