BEGIN:VCALENDAR
VERSION:2.0
PRODID:-//Térszínház - ECPv6.15.11//NONSGML v1.0//EN
CALSCALE:GREGORIAN
METHOD:PUBLISH
X-WR-CALNAME:Térszínház
X-ORIGINAL-URL:https://terszinhaz.hu
X-WR-CALDESC:Események Térszínház
REFRESH-INTERVAL;VALUE=DURATION:PT1H
X-Robots-Tag:noindex
X-PUBLISHED-TTL:PT1H
BEGIN:VTIMEZONE
TZID:Europe/Budapest
BEGIN:DAYLIGHT
TZOFFSETFROM:+0100
TZOFFSETTO:+0200
TZNAME:CEST
DTSTART:20240331T010000
END:DAYLIGHT
BEGIN:STANDARD
TZOFFSETFROM:+0200
TZOFFSETTO:+0100
TZNAME:CET
DTSTART:20241027T010000
END:STANDARD
BEGIN:DAYLIGHT
TZOFFSETFROM:+0100
TZOFFSETTO:+0200
TZNAME:CEST
DTSTART:20250330T010000
END:DAYLIGHT
BEGIN:STANDARD
TZOFFSETFROM:+0200
TZOFFSETTO:+0100
TZNAME:CET
DTSTART:20251026T010000
END:STANDARD
BEGIN:DAYLIGHT
TZOFFSETFROM:+0100
TZOFFSETTO:+0200
TZNAME:CEST
DTSTART:20260329T010000
END:DAYLIGHT
BEGIN:STANDARD
TZOFFSETFROM:+0200
TZOFFSETTO:+0100
TZNAME:CET
DTSTART:20261025T010000
END:STANDARD
END:VTIMEZONE
BEGIN:VEVENT
DTSTART;TZID=Europe/Budapest:20250223T190000
DTEND;TZID=Europe/Budapest:20250223T200000
DTSTAMP:20260422T145402
CREATED:20250123T083006Z
LAST-MODIFIED:20250123T083006Z
UID:1345-1740337200-1740340800@terszinhaz.hu
SUMMARY:Sörgyári Capriccio - hrabali komédia
DESCRIPTION:Hrabal édesanyja alakján keresztül énekli meg egy letűnt világ krónikáját. Azét a világét\, ami nekünk is ismerős lehet nagy- és dédszüleink elbeszéléseiből\, és amit csak itt érthetünk meg igazán Kelet-Közép-Európában. Előadásunk ott kezdődik\, ahol mindez véget ér.1949-et írunk\, és a nymburki sörgyár sem kerülheti el a sorsát: államosítják.„A múltat végképp eltörölni” eszméje indexre tesz mindent és mindenkit a boldog békeidőkből. Lomtárba kerül Francin és Pepin bácsi is. Ekkor jön Mariska\, vagyis Hrabal-anyu\, és azt teszi\, amit a lelkiismerete diktál: emlékezik. És hála mindent megelevenítő képzeletének\, a sörgyár újra élni kezd. \nJÁTSSZA: Kéner Gabi\nRENDEZTE: Kaj Ádám \nA Babits Mihály Színház és a Térszínház koprodukciós előadása \nJEGYÁR\nOnline elővételben: 3800 Ft\nAz előadás előtt\, a helyszínen: 4500 Ft \nJEGYVÁSÁRLÁS ITT: https://www.tixa.hu/sorgyari-capriccio-terszinhaz-20250223 \nAz előadás a Térszínház TÉRopen színházi minifesztje keretében valósul meg! \nTovábbi programok és részletek: https://terszinhaz.hu/teropen/  
URL:https://terszinhaz.hu/musor/sorgyari-capriccio-hrabali-komedia/
LOCATION:Térszínház\, Fő tér 1\, Budapest\, Budapest\, 1033\, Magyarország
CATEGORIES:Színház,TÉRopen
ATTACH;FMTTYPE=image/png:https://terszinhaz.hu/wp-content/uploads/2025/01/sorgyi_png.png
END:VEVENT
END:VCALENDAR