BEGIN:VCALENDAR
VERSION:2.0
PRODID:-//Térszínház - ECPv6.15.11//NONSGML v1.0//EN
CALSCALE:GREGORIAN
METHOD:PUBLISH
X-ORIGINAL-URL:https://terszinhaz.hu
X-WR-CALDESC:Események Térszínház
REFRESH-INTERVAL;VALUE=DURATION:PT1H
X-Robots-Tag:noindex
X-PUBLISHED-TTL:PT1H
BEGIN:VTIMEZONE
TZID:Europe/Budapest
BEGIN:DAYLIGHT
TZOFFSETFROM:+0100
TZOFFSETTO:+0200
TZNAME:CEST
DTSTART:20240331T010000
END:DAYLIGHT
BEGIN:STANDARD
TZOFFSETFROM:+0200
TZOFFSETTO:+0100
TZNAME:CET
DTSTART:20241027T010000
END:STANDARD
BEGIN:DAYLIGHT
TZOFFSETFROM:+0100
TZOFFSETTO:+0200
TZNAME:CEST
DTSTART:20250330T010000
END:DAYLIGHT
BEGIN:STANDARD
TZOFFSETFROM:+0200
TZOFFSETTO:+0100
TZNAME:CET
DTSTART:20251026T010000
END:STANDARD
BEGIN:DAYLIGHT
TZOFFSETFROM:+0100
TZOFFSETTO:+0200
TZNAME:CEST
DTSTART:20260329T010000
END:DAYLIGHT
BEGIN:STANDARD
TZOFFSETFROM:+0200
TZOFFSETTO:+0100
TZNAME:CET
DTSTART:20261025T010000
END:STANDARD
END:VTIMEZONE
BEGIN:VEVENT
DTSTART;TZID=Europe/Budapest:20250224T190000
DTEND;TZID=Europe/Budapest:20250224T200000
DTSTAMP:20260422T133223
CREATED:20250123T083241Z
LAST-MODIFIED:20250123T083241Z
UID:1347-1740423600-1740427200@terszinhaz.hu
SUMMARY:Hogyan legyünk boldogtalanok? - önsorsrontó szeminárium
DESCRIPTION:Gondolkodott már azon\, hogyan lehet igazán jól szorongani?\nHogyan lehet mestere a parázásnak?\nKimaxolná a társadalmi elvárások okozta görcseit?\nÖnfeledten feszengne a hétköznapokban? \nNe várjon másokra\, rúgjon önmaga alá! \nEzen az estén elsajátíthatja az önkínzás alapjait\, kiművelheti magát önsajnáltatásból és magáévá teheti az önsorsrontás haladó és profi eszköztárát. \nMegmutatjuk a lelki kútmérgezés praktikáit. Megtudja\, hogyan veszítse el barátait 3 lépésben\, megismerheti a párkapcsolatok elrontásának ősi titkait – és más egyéb módszereket\, hogy fájjon a tükörbe nézni. S ha már a padlón van\, megtanítjuk hogyan verje magát a földhöz! \nEz nem humbug\, ez tudomány! Amerikai módszer alapján! \nKidolgozta: Braun Barna\nElőadja: Endrész Aliz és Braun Barna\nRendezte: Kaj Ádám \nA Babits Mihály Színház és a Térszínház koprodukciós előadása \nJEGYÁR\nOnline elővételben: 3800 Ft\nAz előadás előtt\, a helyszínen: 4500 Ft \nJEGYVÁSÁRLÁS ITT: https://www.tixa.hu/hogyan-legyunk-boldogtalanok-terszinhaz-20250224 \n Az előadás a Térszínház TÉRopen színházi minifesztje keretében valósul meg! \nTovábbi programok és részletek: https://terszinhaz.hu/teropen/  
URL:https://terszinhaz.hu/musor/hogyan-legyunk-boldogtalanok-onsorsronto-szeminarium/
LOCATION:Térszínház\, Fő tér 1\, Budapest\, Budapest\, 1033\, Magyarország
CATEGORIES:Színház,TÉRopen
ATTACH;FMTTYPE=image/png:https://terszinhaz.hu/wp-content/uploads/2025/01/boldogtalanok_png.png
END:VEVENT
END:VCALENDAR