BEGIN:VCALENDAR
VERSION:2.0
PRODID:-//Térszínház - ECPv6.15.11//NONSGML v1.0//EN
CALSCALE:GREGORIAN
METHOD:PUBLISH
X-ORIGINAL-URL:https://terszinhaz.hu
X-WR-CALDESC:Események Térszínház
REFRESH-INTERVAL;VALUE=DURATION:PT1H
X-Robots-Tag:noindex
X-PUBLISHED-TTL:PT1H
BEGIN:VTIMEZONE
TZID:Europe/Budapest
BEGIN:DAYLIGHT
TZOFFSETFROM:+0100
TZOFFSETTO:+0200
TZNAME:CEST
DTSTART:20240331T010000
END:DAYLIGHT
BEGIN:STANDARD
TZOFFSETFROM:+0200
TZOFFSETTO:+0100
TZNAME:CET
DTSTART:20241027T010000
END:STANDARD
BEGIN:DAYLIGHT
TZOFFSETFROM:+0100
TZOFFSETTO:+0200
TZNAME:CEST
DTSTART:20250330T010000
END:DAYLIGHT
BEGIN:STANDARD
TZOFFSETFROM:+0200
TZOFFSETTO:+0100
TZNAME:CET
DTSTART:20251026T010000
END:STANDARD
BEGIN:DAYLIGHT
TZOFFSETFROM:+0100
TZOFFSETTO:+0200
TZNAME:CEST
DTSTART:20260329T010000
END:DAYLIGHT
BEGIN:STANDARD
TZOFFSETFROM:+0200
TZOFFSETTO:+0100
TZNAME:CET
DTSTART:20261025T010000
END:STANDARD
END:VTIMEZONE
BEGIN:VEVENT
DTSTART;TZID=Europe/Budapest:20251017T190000
DTEND;TZID=Europe/Budapest:20251017T200000
DTSTAMP:20260422T014030
CREATED:20251016T114447Z
LAST-MODIFIED:20260123T142637Z
UID:1574-1760727600-1760731200@terszinhaz.hu
SUMMARY:A legkisebb jégkorszak - BEMUTATÓ
DESCRIPTION:2019-et írunk\, Európát és benne Magyarországot az izlandi és olaszországi vulkánok heves aktivitása nyomán bekövetkező globális lehűlés keríti hatalmába. A lassanként beköszönő vulkáni tél felforgat mindent: nemcsak az ország gazdaságát és a társadalmi helyzetet\, de az emberi viszonyokat\, kapcsolatokat is. A válságban minden átértékelődik és mindenki megmérettetik: megerősödik vagy elbukik. \nTérey János 2015-ben megjelent regénye\, A Legkisebb Jégkorszak korántsem utópisztikus látomás\, hanem képtelenül valóságos korrajz egy elképzelt jövőről. \nKlem Viktor rendező Kovács Krisztina dramaturggal közösen készítette el a regény színpadi változatát\, mely két színészre íródott. Sok humorral átszőtt\, mély emberismerettel és életszeretettel megalkotott pillanatfelvételeket láthatunk\, melyekben megdöbbentő egyéni sorsok és bonyolult párkapcsolatok villanak fel. \nSzereplők\nFiú: Klem Viktor\nLány: Gubík Ági \nAlkotók\nSzerző: Térey János\nZeneszerző\, zenei vezető:  Bucz Magor\nDramaturg: Kovács Krisztina\nRendező: Klem Viktor \n  \nJegyek: 1800 Ft.\nSzakmai jegy: 500 Ft.\n\nJegyigénylés\ne-mailen: terszinhaz@gmail.com\,\ntelefonon: 0613884310\n\nA bemutató létrejöttét a Kulturális  és Innovációs Minisztérium támogatja.\n\n\n\n\n\nÓbudai lakcímkártyával rendelkező nézőink kedvezményesen válthatnak jegyet az előadásra\, korlátozott számban.  \nRegisztráció telefonon: +36-1-388-4310 \n\n 
URL:https://terszinhaz.hu/musor/a-legkisebb-jegkorszak-bemutato/
LOCATION:Térszínház\, Fő tér 1\, Budapest\, Budapest\, 1033\, Magyarország
CATEGORIES:Színház
ATTACH;FMTTYPE=image/jpeg:https://terszinhaz.hu/wp-content/uploads/2025/10/a-legkisebb-jegkorszak-havas-apokalipszis-ket-szineszre-original-265925.jpg
END:VEVENT
END:VCALENDAR