BEGIN:VCALENDAR
VERSION:2.0
PRODID:-//Térszínház - ECPv6.15.11//NONSGML v1.0//EN
CALSCALE:GREGORIAN
METHOD:PUBLISH
X-WR-CALNAME:Térszínház
X-ORIGINAL-URL:https://terszinhaz.hu
X-WR-CALDESC:Események Térszínház
REFRESH-INTERVAL;VALUE=DURATION:PT1H
X-Robots-Tag:noindex
X-PUBLISHED-TTL:PT1H
BEGIN:VTIMEZONE
TZID:Europe/Budapest
BEGIN:DAYLIGHT
TZOFFSETFROM:+0100
TZOFFSETTO:+0200
TZNAME:CEST
DTSTART:20240331T010000
END:DAYLIGHT
BEGIN:STANDARD
TZOFFSETFROM:+0200
TZOFFSETTO:+0100
TZNAME:CET
DTSTART:20241027T010000
END:STANDARD
BEGIN:DAYLIGHT
TZOFFSETFROM:+0100
TZOFFSETTO:+0200
TZNAME:CEST
DTSTART:20250330T010000
END:DAYLIGHT
BEGIN:STANDARD
TZOFFSETFROM:+0200
TZOFFSETTO:+0100
TZNAME:CET
DTSTART:20251026T010000
END:STANDARD
BEGIN:DAYLIGHT
TZOFFSETFROM:+0100
TZOFFSETTO:+0200
TZNAME:CEST
DTSTART:20260329T010000
END:DAYLIGHT
BEGIN:STANDARD
TZOFFSETFROM:+0200
TZOFFSETTO:+0100
TZNAME:CET
DTSTART:20261025T010000
END:STANDARD
END:VTIMEZONE
BEGIN:VEVENT
DTSTART;TZID=Europe/Budapest:20251119T190000
DTEND;TZID=Europe/Budapest:20251119T220000
DTSTAMP:20260420T115039
CREATED:20251008T111109Z
LAST-MODIFIED:20260123T141102Z
UID:1562-1763578800-1763589600@terszinhaz.hu
SUMMARY:Ezegymunkahej!
DESCRIPTION:Felriadva egy fiktív bútoráruházban találjuk magunkat\, mely kísértetiesen hasonlít a mindenki által oly jól ismert “IKEA” berendezésére. A szereplők kék és sárga hivatali – “hejenként” HEJ! feliratú – ruhákban sietnek dolgukra\, vagy éppen dolguk elől… \nA világból hamarosan két alak válik ki: \na kispesti Kerekes Helén – aki lépten-nyomon kizökken\, és elszántan küzd az automatizált\, személytelen\, húsdaráló világ ellen\, ahol az “AI” többet ér\, mint az emberi munkaerő – \nés Bálint\, az áruházvezető\, aki felismeri\, hogy talán mégis inkább folyamodna a ragyogó ügyfélszolgálatos lányhoz\, mintsem a “nonhumán” ügyintézéshez… \nA történések egy céges buli keretében csúcsosodnak ki – húsgolyók\, a cuki\, de kicsit ijesztő Sári\, egy könnyűvérű hölgybe részegen belészerető\, bizonyos Adorján\, a lányát védő János\, a tajtékzó Tilda és lágy\, szívmelengető operettslágerek közepette. \nA háttérben egy misztikus alak. Talán alszik. Felriadva egy fiktív bútoráruházban találja magát\, mely kísértetiesen hasonlít a mindenki által oly jól ismert… \nKokakóla\, $oproni\, Glögg? \nRejtő Jenő “Aki mer\, az nyer” c. bohózatát átírta: F. Tóth Gergely \nRendező: Wettstein Márk \nJátékidő: ~120 perc (1 szünettel) \nJátsszák: \nHelén: Szász Gabriella \nBálint: Wettstein Márk \nDóri: Kárpáti Barnabás \nTitkárnő / Lia: Szaplonczay Mária \nBemondó / Mr. Clarkson: Bognár Bence \nJános: Gerő Ádám \nSári / Laura: Erdélyi Flóra \nAlkotók: \nFelvételről: Dolmány Attila \nDramaturg: F. Tóth Gergely \nZenei vezető: Túri-Nagy János \nElektronikus zeneszerző: Kővári Dániel \nDíszlet: Óvári Panka \nJelmez: Farkas Eszter \nKoreográfus: Mikita Dorka Júlia \nFény: Braun Barna \nRendezőasszisztens: Molnár Kata\, Balla Anett \nJEGYEK ITT: https://www.tixa.hu/ezegymunkahej-terszinhaz-20251119 \n  \n  \n\nTámogató: Nemzeti Kulturális Alap https://www.nka.hu
URL:https://terszinhaz.hu/musor/ezegymunkahej-4/
LOCATION:Térszínház\, Fő tér 1\, Budapest\, Budapest\, 1033\, Magyarország
CATEGORIES:Színház
ATTACH;FMTTYPE=image/jpeg:https://terszinhaz.hu/wp-content/uploads/2025/03/32791-1_20241007185714.jpg
END:VEVENT
END:VCALENDAR