BEGIN:VCALENDAR
VERSION:2.0
PRODID:-//Térszínház - ECPv6.15.11//NONSGML v1.0//EN
CALSCALE:GREGORIAN
METHOD:PUBLISH
X-WR-CALNAME:Térszínház
X-ORIGINAL-URL:https://terszinhaz.hu
X-WR-CALDESC:Események Térszínház
REFRESH-INTERVAL;VALUE=DURATION:PT1H
X-Robots-Tag:noindex
X-PUBLISHED-TTL:PT1H
BEGIN:VTIMEZONE
TZID:Europe/Budapest
BEGIN:DAYLIGHT
TZOFFSETFROM:+0100
TZOFFSETTO:+0200
TZNAME:CEST
DTSTART:20240331T010000
END:DAYLIGHT
BEGIN:STANDARD
TZOFFSETFROM:+0200
TZOFFSETTO:+0100
TZNAME:CET
DTSTART:20241027T010000
END:STANDARD
BEGIN:DAYLIGHT
TZOFFSETFROM:+0100
TZOFFSETTO:+0200
TZNAME:CEST
DTSTART:20250330T010000
END:DAYLIGHT
BEGIN:STANDARD
TZOFFSETFROM:+0200
TZOFFSETTO:+0100
TZNAME:CET
DTSTART:20251026T010000
END:STANDARD
BEGIN:DAYLIGHT
TZOFFSETFROM:+0100
TZOFFSETTO:+0200
TZNAME:CEST
DTSTART:20260329T010000
END:DAYLIGHT
BEGIN:STANDARD
TZOFFSETFROM:+0200
TZOFFSETTO:+0100
TZNAME:CET
DTSTART:20261025T010000
END:STANDARD
END:VTIMEZONE
BEGIN:VEVENT
DTSTART;TZID=Europe/Budapest:20251124T190000
DTEND;TZID=Europe/Budapest:20251124T203000
DTSTAMP:20260420T035324
CREATED:20251121T093355Z
LAST-MODIFIED:20260123T140157Z
UID:1610-1764010800-1764016200@terszinhaz.hu
SUMMARY:A legkisebb jégkorszak - DÍSZBEMUTATÓ
DESCRIPTION:2019-et írunk\, Európát és benne Magyarországot az izlandi és olaszországi vulkánok heves aktivitása nyomán bekövetkező globális lehűlés keríti hatalmába. A lassanként beköszönő vulkáni tél felforgat mindent: nemcsak az ország gazdaságát és a társadalmi helyzetet\, de az emberi viszonyokat\, kapcsolatokat is. A válságban minden átértékelődik és mindenki megmérettetik: megerősödik vagy elbukik. \nTérey János 2015-ben megjelent regénye\, A Legkisebb Jégkorszak korántsem utópisztikus látomás\, hanem képtelenül valóságos korrajz egy elképzelt jövőről. \nKlem Viktor rendező Kovács Krisztina dramaturggal közösen készítette el a regény színpadi változatát\, mely két színészre íródott. Sok humorral átszőtt\, mély emberismerettel és életszeretettel megalkotott pillanatfelvételeket láthatunk\, melyekben megdöbbentő egyéni sorsok és bonyolult párkapcsolatok villanak fel. \nSzereplők\nFiú: Klem Viktor\nLány: Gubík Ági \nAlkotók\nSzerző: Térey János\nZeneszerző\, zenei vezető:  Bucz Magor\nDramaturg: Kovács Krisztina\nRendező: Klem Viktor \nJEGYEK ITT \nTámogató: Kulturális és Innovációs Minisztérium
URL:https://terszinhaz.hu/musor/a-legkisebb-jegkorszak-diszbemutato/
LOCATION:Várkert Bazár\, Ybl Miklós tér 6.\, Budapest\, Budapest\, 1013\, Hungary
CATEGORIES:Színház
ATTACH;FMTTYPE=image/jpeg:https://terszinhaz.hu/wp-content/uploads/2025/10/a-legkisebb-jegkorszak-havas-apokalipszis-ket-szineszre-original-265925.jpg
END:VEVENT
END:VCALENDAR