BEGIN:VCALENDAR
VERSION:2.0
PRODID:-//Térszínház - ECPv6.15.11//NONSGML v1.0//EN
CALSCALE:GREGORIAN
METHOD:PUBLISH
X-ORIGINAL-URL:https://terszinhaz.hu
X-WR-CALDESC:Események Térszínház
REFRESH-INTERVAL;VALUE=DURATION:PT1H
X-Robots-Tag:noindex
X-PUBLISHED-TTL:PT1H
BEGIN:VTIMEZONE
TZID:Europe/Budapest
BEGIN:DAYLIGHT
TZOFFSETFROM:+0100
TZOFFSETTO:+0200
TZNAME:CEST
DTSTART:20240331T010000
END:DAYLIGHT
BEGIN:STANDARD
TZOFFSETFROM:+0200
TZOFFSETTO:+0100
TZNAME:CET
DTSTART:20241027T010000
END:STANDARD
BEGIN:DAYLIGHT
TZOFFSETFROM:+0100
TZOFFSETTO:+0200
TZNAME:CEST
DTSTART:20250330T010000
END:DAYLIGHT
BEGIN:STANDARD
TZOFFSETFROM:+0200
TZOFFSETTO:+0100
TZNAME:CET
DTSTART:20251026T010000
END:STANDARD
BEGIN:DAYLIGHT
TZOFFSETFROM:+0100
TZOFFSETTO:+0200
TZNAME:CEST
DTSTART:20260329T010000
END:DAYLIGHT
BEGIN:STANDARD
TZOFFSETFROM:+0200
TZOFFSETTO:+0100
TZNAME:CET
DTSTART:20261025T010000
END:STANDARD
END:VTIMEZONE
BEGIN:VEVENT
DTSTART;TZID=Europe/Budapest:20251229T160000
DTEND;TZID=Europe/Budapest:20251229T170000
DTSTAMP:20260419T153401
CREATED:20251217T131717Z
LAST-MODIFIED:20260123T142716Z
UID:1637-1767024000-1767027600@terszinhaz.hu
SUMMARY:JÓKUTYÁK
DESCRIPTION:Az állatok iránti szeretet zenés darab után kiált. A zenés darab pedig egy olyan állatért\, akit mindenki szeret\, és annyiféle van belőle\, ahány ember. Aki tükröt tud tartani az embernek\, de saját jogán egyéniségként is izgalmas. A kutyák sokfélék méretben\, színben\, jellemben\, gazdában\, feladatban\, lakóhelyben. De minden egyes kutyafaj\, minden egyes kutya teljes világ. Csak meg kell mutatni\, ki kell énekelni. Hagyni kell beszélni őket\, mert már közel járnak a beszédhez. Az állatok érzelmei\, különösen a kutyáké\, közel állnak a miénkhez. A világ nemcsak a miénk. A szeretet nemcsak a miénk. A kutyáknak mindezt nyugodtan odaadhatjuk\, mert farkcsóválva fölkapják\, odahozzák és leteszik a lábunk elé. Ebből már jelenetek\, apró\, világmagyarázó szituációk és dalok következhetek. Vonjuk le a következtetést! \nReméljük\, így nem csak egyszer lesz Budán kutyaszínház! \nKözreműködik a Térszínház társulata. \nTámogató: Nemzeti Kulturális Alap \nregisztráció és jegyvásárlás: terszinhaz@gmail.com \nJegyár: 4500 Ft \n\nTámogató: Nemzeti Kulturális Alap https://www.nka.hu \n  \n  \n  \nÓbudai lakcímkártyával rendelkező nézőink kedvezményesen válthatnak jegyet az előadásra\, korlátozott számban.  \nRegisztráció telefonon: +36-1-388-4310
URL:https://terszinhaz.hu/musor/jokutyak/
LOCATION:Térszínház\, Fő tér 1\, Budapest\, Budapest\, 1033\, Magyarország
CATEGORIES:Színház
ATTACH;FMTTYPE=image/png:https://terszinhaz.hu/wp-content/uploads/2025/12/kutyak_cover_paw_jv_nka.png
END:VEVENT
END:VCALENDAR