BEGIN:VCALENDAR
VERSION:2.0
PRODID:-//Térszínház - ECPv6.15.11//NONSGML v1.0//EN
CALSCALE:GREGORIAN
METHOD:PUBLISH
X-WR-CALNAME:Térszínház
X-ORIGINAL-URL:https://terszinhaz.hu
X-WR-CALDESC:Események Térszínház
REFRESH-INTERVAL;VALUE=DURATION:PT1H
X-Robots-Tag:noindex
X-PUBLISHED-TTL:PT1H
BEGIN:VTIMEZONE
TZID:Europe/Budapest
BEGIN:DAYLIGHT
TZOFFSETFROM:+0100
TZOFFSETTO:+0200
TZNAME:CEST
DTSTART:20220327T010000
END:DAYLIGHT
BEGIN:STANDARD
TZOFFSETFROM:+0200
TZOFFSETTO:+0100
TZNAME:CET
DTSTART:20221030T010000
END:STANDARD
BEGIN:DAYLIGHT
TZOFFSETFROM:+0100
TZOFFSETTO:+0200
TZNAME:CEST
DTSTART:20230326T010000
END:DAYLIGHT
BEGIN:STANDARD
TZOFFSETFROM:+0200
TZOFFSETTO:+0100
TZNAME:CET
DTSTART:20231029T010000
END:STANDARD
BEGIN:DAYLIGHT
TZOFFSETFROM:+0100
TZOFFSETTO:+0200
TZNAME:CEST
DTSTART:20240331T010000
END:DAYLIGHT
BEGIN:STANDARD
TZOFFSETFROM:+0200
TZOFFSETTO:+0100
TZNAME:CET
DTSTART:20241027T010000
END:STANDARD
END:VTIMEZONE
BEGIN:VEVENT
DTSTART;TZID=Europe/Budapest:20230202T190000
DTEND;TZID=Europe/Budapest:20230202T200000
DTSTAMP:20260424T021232
CREATED:20240314T164831Z
LAST-MODIFIED:20240314T164831Z
UID:1125-1675364400-1675368000@terszinhaz.hu
SUMMARY:Vendégünk Hrabal
DESCRIPTION:A Túlságosan zajos magány cselekménye Hrabal életének valós élményein alapszik. 1954 októberétől 1959 februárjáig dolgozott papírbálázóként a hulladékgyűjtő vállalatnál. Ekkor ismerkedett meg a regénybeli Hanta mintájául szolgáló kollégájával\, Jindrich Peukerttel. Hanta karakterébe ugyan nemcsak régi barátját és kollégáját\, hanem saját magát is belegyúrta\, azonban a Túlságosan zajos magány túlmutat egy önéletrajzi munkán. Hőse sokkal inkább tekinthető a huszadik századi gondolkodó ember allegóriá­jának\, akire pontosan illik a Gyöngéd barbárokból a következő idézet: „Mert azt senki a világon nem bocsátja meg\, ha az ember békességben\, valamint a részegség és a világmindenség számlájára akar élni…” A papírbálázóként végigdolgozott korszak mély nyomott hagyott Hrabalban\, hosszú évekig foglalkoztatta a téma\, míg végül megírta a regényét\, ami egy olyan világról\, egy olyan korról tudósít\, amikor a lélek\, a szellem megszűnik\, amikor a minőség korából a mennyiség korába lép át a világ.
URL:https://terszinhaz.hu/musor/vendegunk-hrabal-3/
CATEGORIES:Színház
END:VEVENT
BEGIN:VEVENT
DTSTART;TZID=Europe/Budapest:20230203T140000
DTEND;TZID=Europe/Budapest:20230203T150000
DTSTAMP:20260424T021232
CREATED:20240314T161642Z
LAST-MODIFIED:20240314T161642Z
UID:1101-1675432800-1675436400@terszinhaz.hu
SUMMARY:Pinkó és a szegényember
DESCRIPTION:Pinkó\, az ördög fia nagy árat fizet azért\, mert torkosságában megette a szegényember puliszkáját. Varázslatos erejével szolgálja három évig\, és így busásan megtérül a szegényember kára. A mese tanulsága\, hogy “Bizony\, bizony sokszor még az ördög fia is tisztességesebb\, mint egynémely mai uraság.” 7 éves kortól ajánljuk.\nElőadás után színpadbejárás és gyermektáncház.\nJátsszák: Kecskeméti Róbert\, Téglás Márton\, Bódi Beáta\, Kovács J. István\, Szamosvári Gyöngyvér.\nRendezte: Bucz Hunor /Jászai-díjas/
URL:https://terszinhaz.hu/musor/pinko-es-a-szegenyember-2/
CATEGORIES:Színház
END:VEVENT
BEGIN:VEVENT
DTSTART;TZID=Europe/Budapest:20230204T140000
DTEND;TZID=Europe/Budapest:20230204T150000
DTSTAMP:20260424T021232
CREATED:20240314T161707Z
LAST-MODIFIED:20240314T161707Z
UID:1099-1675519200-1675522800@terszinhaz.hu
SUMMARY:Pinkó és a szegényember
DESCRIPTION:Pinkó\, az ördög fia nagy árat fizet azért\, mert torkosságában megette a szegényember puliszkáját. Varázslatos erejével szolgálja három évig\, és így busásan megtérül a szegényember kára. A mese tanulsága\, hogy “Bizony\, bizony sokszor még az ördög fia is tisztességesebb\, mint egynémely mai uraság.” 7 éves kortól ajánljuk.\nElőadás után színpadbejárás és gyermektáncház.\nJátsszák: Kecskeméti Róbert\, Téglás Márton\, Bódi Beáta\, Kovács J. István\, Szamosvári Gyöngyvér.\nRendezte: Bucz Hunor /Jászai-díjas/
URL:https://terszinhaz.hu/musor/pinko-es-a-szegenyember-3/
CATEGORIES:Színház
END:VEVENT
BEGIN:VEVENT
DTSTART;TZID=Europe/Budapest:20230208T190000
DTEND;TZID=Europe/Budapest:20230208T200000
DTSTAMP:20260424T021232
CREATED:20240314T150526Z
LAST-MODIFIED:20240314T150526Z
UID:1041-1675882800-1675886400@terszinhaz.hu
SUMMARY:Rómeóról és Júliáról
DESCRIPTION:A rendező naplójából: \n„A vágynak gátja kőfal nem lehet…” \nTalán sokunk fülében cseng ismerősen a jól ismert mondat Shakespeare egyik leghíresebb művéből. Két fiatal szerelmes\, akik egymásért mindent megtennének. Hiszik\, hogy ha bíznak egymásban\, határ a csillagos ég. De vajon a szerelem jó tanácsadó-e? Mint Illés szekere gyors\, hevesebb lángra kapnak tőle az emberi szívek. A szerelemmel való találkozás az egyik olyan pillanat az életben ahol egészen más ritmust kap a létezésünk. A másik ilyen pillanat a halállal való találkozás. Mind a kettő szelleme jócskán belengi az előadás világát. A két fiatal\, Rómeó és Júlia talán idejekorán találkozik mind a kettővel. Mi lett volna ha ez máshogyan alakul? \nSzereposztás \nPÁRIS\, ifjú nemesúrfi\, a herceg atyafia: Kecskeméti Róbert\nRÓMEÓ\, Montague fia: Szondi Tamás\nMERCUTIO\, a herceg rokona\, Rómeó barátja:\nCsuka János\nBENVOLIO\, a herceg rokona\, Rómeó barátja:\nKecskeméti Róbert\nTYBALT\, Capuletné unokaöccse: Téglás Márton\nLŐRINC\, Ferences barát:\nStubnya Béla\nJÚLIA\, Capuleték leánya: Kelecsényi Panni\nJÚLIA DAJKÁJA: Szamosvári Gyöngyvér\nHALÁL-ANGYAL: Papp Annamária \nZENÉSZEK: Riesz Péter (gitár)\, Bucz Magor (billentyű\, elektronika) \nPRODUKCIÓS VEZETŐ\, ZENESZERZŐ: Bucz Magor\nDRAMATURG: Pintér Károly \nRENDEZŐ: Tóth János Gergely
URL:https://terszinhaz.hu/musor/romeorol-es-juliarol-11/
CATEGORIES:Színház
END:VEVENT
BEGIN:VEVENT
DTSTART;TZID=Europe/Budapest:20230210T110000
DTEND;TZID=Europe/Budapest:20230210T120000
DTSTAMP:20260424T021232
CREATED:20240314T155318Z
LAST-MODIFIED:20240314T155318Z
UID:1076-1676026800-1676030400@terszinhaz.hu
SUMMARY:HOMÉROSZ: ILIÁSZ
DESCRIPTION:HOMÉROSZ: ILIÁSZ a Térszínázban.
URL:https://terszinhaz.hu/musor/homerosz-iliasz-3/
CATEGORIES:Színház
END:VEVENT
BEGIN:VEVENT
DTSTART;TZID=Europe/Budapest:20230212T100000
DTEND;TZID=Europe/Budapest:20230212T110000
DTSTAMP:20260424T021232
CREATED:20240314T161900Z
LAST-MODIFIED:20240314T161915Z
UID:1098-1676196000-1676199600@terszinhaz.hu
SUMMARY:Pinkó és a szegényember
DESCRIPTION:Pinkó\, az ördög fia nagy árat fizet azért\, mert torkosságában megette a szegényember puliszkáját. Varázslatos erejével szolgálja három évig\, és így busásan megtérül a szegényember kára. A mese tanulsága\, hogy “Bizony\, bizony sokszor még az ördög fia is tisztességesebb\, mint egynémely mai uraság.” 7 éves kortól ajánljuk.\nElőadás után színpadbejárás és gyermektáncház.\nJátsszák: Kecskeméti Róbert\, Téglás Márton\, Bódi Beáta\, Kovács J. István\, Szamosvári Gyöngyvér.\nRendezte: Bucz Hunor /Jászai-díjas/
URL:https://terszinhaz.hu/musor/pinko-es-a-szegenyember-5/
CATEGORIES:Színház
END:VEVENT
BEGIN:VEVENT
DTSTART;TZID=Europe/Budapest:20230216T180000
DTEND;TZID=Europe/Budapest:20230216T203000
DTSTAMP:20260424T021232
CREATED:20240314T153011Z
LAST-MODIFIED:20240314T153011Z
UID:1051-1676570400-1676579400@terszinhaz.hu
SUMMARY:A Vigéc
DESCRIPTION:A rendező naplójából: \nPáskándi Géza A vigéc című zord bohózatában nemzeti megmaradásunkról\, hagyományaink\, értékeink megőrzéséről szól. Az abszurdoid középpontjában egy család áll. Töredékes család. Korosodó házaspár és egy szem leányuk. Köznapi életüket egy jövevény\, egy kereskedelmi utazó\, egy háztartási gépekkel házaló vigéc zavarja fel.\nEz a törpe\, ez a zsugorított Mefisztó a jobb élet reményéért cserébe nagy árat kér tőlük. Anyanyelvük\, történelmük\, kultúrájuk elfelejtését. \nA dráma zord bohózat. Pillanatkép történelmi létünk képtelenségéről. Szemléletét hitvitázó drámáink élessége és a székely viccek akasztófahumora jellemzi. Az író gyötrelmesen éli meg művében a magyarság fenyegetettségét\, de van benne annyi kurázsi\, hogy a magyar dal hősét kövesse: mikor immár halálfia\, ránk nevet mégis.\nPáskándi darabjának időszerűsége aligha kétséges\, ízig-vérig mai\, sokat merít a kommedia dell’arte hagyományaiból. \nNE FOGJA ŐT A FELEDÉS! \nPénzes Ciprián\, kereskedelmi utazó – Csuka János\nKádas József\, nyugdíjas – Kovács J. István\nMargit\, a neje – Szamosvári Gyöngyvér\nZsuzsa\, a lányuk – Kelecsényi Panni\nSzunnyai\, az albérlőjük – Téglás Márton \nFény\, hang: Papp Krisztina\, Vajkó Anísia \nRendezte – Bucz Hunor (Jászai Mari-díjas)
URL:https://terszinhaz.hu/musor/a-vigec-10/
LOCATION:Térszínház\, Fő tér 1\, Budapest\, Budapest\, 1033\, Magyarország
CATEGORIES:Színház
END:VEVENT
BEGIN:VEVENT
DTSTART;TZID=Europe/Budapest:20230218T140000
DTEND;TZID=Europe/Budapest:20230218T150000
DTSTAMP:20260424T021232
CREATED:20240314T160240Z
LAST-MODIFIED:20240314T160240Z
UID:1081-1676728800-1676732400@terszinhaz.hu
SUMMARY:A Holdbeli csónakos
DESCRIPTION:Weöres Sándor műve nyomán: A holdbeli csónakos \nAz előadás során Vitéz László és felesége\, Markotányos Rózsi történelmi viharok közepette vezetik közönségünket a mitikus őshazába\, hogy Pávaszem és Medvefia szerelmi kalandjáról\, bujdosásáról\, hányattatásáról és egymásra találásáról meséljenek. Weöres Sándor eredetileg nagyszínpadra írt\, sokszereplős művét\, a szerző személyes egyetértésével háromszereplős\, többdimenziós kamaradarabbá formáltuk: a színészek képmutogató-\, és élőjátékkal\, valamint bábokkal keltik életre a történet fordulatos cselekményét\, helyszíneit és közel két tucat szereplőjét. A Jászai Mari-díjas Bucz Hunor által rendezett előadás 34. évada látható színpadunkon. Bucz Hunor és a Térszínház társulata személyes kapcsolatot ápolt a szerzővel\, aki 1989-ben látta feldolgozásunkat\, és nagy örömünkre azt mondhatjuk\, módfelett elnyerte tetszését. \nElőadás után színpadbejárást tartunk\, ahol nézőink színészeinkkel közösen fedezhetik fel a darab kellékeit és díszleteit \nJátsszák: Kovács J. István\, Szamosvári Gyöngyvér\, Szűcs Réka\nSzcenika: Krizbai Judit\nRendezte: BUCZ HUNOR (Jászai Mari-díjas)
URL:https://terszinhaz.hu/musor/a-holdbeli-csonakos-8/
CATEGORIES:Színház
END:VEVENT
BEGIN:VEVENT
DTSTART;TZID=Europe/Budapest:20230225T190000
DTEND;TZID=Europe/Budapest:20230225T200000
DTSTAMP:20260424T021232
CREATED:20240314T162302Z
LAST-MODIFIED:20240314T162302Z
UID:1106-1677351600-1677355200@terszinhaz.hu
SUMMARY:Levél a föld alól - in memoriam Hervay Gizella
DESCRIPTION:A Levél a föld alól misztérium\, Hervay Gizella verseiből készült. A szatmárcsekei temetőből ismert\, csónak formájú fejfa körül játszódik. Három jelentés préselődik egymásra. Jézus Golgotája\, a magyar történelem tragikuma és a költőnő életének drámája. Szamosvári Gyöngyvér és Papp Annamária\, a Térszínház művészei megidézik Hervay Gizellát\, a költőt\, mert hisszük\, hogy otthonra lelnek itt\, a Duna-Tisza tájékán. A magyar népdalokkal és vallásos énekekkel\, gardon kísérettel elmondott szövegek Bucz Hunor rendezésében táltos imaként\, táltos átokként\, táltos utazásként szólnak mindnyájunkhoz. \nHervay Gizella\, költő. Makón született 1934. október 10-én\, elhunyt 1982. július 2-án Budapesten. 1945-től 1975-ig a Partiumban és Erdélyben\, illetve Bukarestben élt.Válása után egyedül nem győzi a küszködést\, és 1976-ban Magyarországra menekül a romániai zaklatások\, fenyegetések elől\, de itt sem lel hazára. Fiának tragikus halála és a magyar kivetettség felőrli életét\, mégis táltosokat igéző\, nem földi erővel megírja a sors által rábízott verseket. Utolsó kötetét nyomdába adja\, de már nem várja meg a megjelenést. Életműve kikerülhetetlen\, költői testamentuma mértéket ad mindnyájunknak\, még akkor is\, ha irodalmi közéletünk alig vesz róla tudomást. A Lódenkabát Kelete Európa szegén verses kötete készültekor gyakran találkozhattunk vele. Szerette a Térszínház előadásait\, szerette ünnepeinket\, és sok kedves népdalt tanított meg nekünk. Ciklusról\, ciklusra követhettük munkáját\, együtt örültünk vele a nyomdába adás napján és a könyv borítójának láttán. mert Deim Pál alkotásának szimbolikus ereje a versek drámaiságában fogant. Nem tudtuk még\, hogy utolsó kötete lesz ez\, és Hervay Gizella végakarata teljesül benne.
URL:https://terszinhaz.hu/musor/level-a-fold-alol-in-memoriam-hervay-gizella-6/
CATEGORIES:Irodalom,Színház
END:VEVENT
END:VCALENDAR