BEGIN:VCALENDAR
VERSION:2.0
PRODID:-//Térszínház - ECPv6.15.11//NONSGML v1.0//EN
CALSCALE:GREGORIAN
METHOD:PUBLISH
X-ORIGINAL-URL:https://terszinhaz.hu
X-WR-CALDESC:Események Térszínház
REFRESH-INTERVAL;VALUE=DURATION:PT1H
X-Robots-Tag:noindex
X-PUBLISHED-TTL:PT1H
BEGIN:VTIMEZONE
TZID:Europe/Budapest
BEGIN:DAYLIGHT
TZOFFSETFROM:+0100
TZOFFSETTO:+0200
TZNAME:CEST
DTSTART:20220327T010000
END:DAYLIGHT
BEGIN:STANDARD
TZOFFSETFROM:+0200
TZOFFSETTO:+0100
TZNAME:CET
DTSTART:20221030T010000
END:STANDARD
BEGIN:DAYLIGHT
TZOFFSETFROM:+0100
TZOFFSETTO:+0200
TZNAME:CEST
DTSTART:20230326T010000
END:DAYLIGHT
BEGIN:STANDARD
TZOFFSETFROM:+0200
TZOFFSETTO:+0100
TZNAME:CET
DTSTART:20231029T010000
END:STANDARD
BEGIN:DAYLIGHT
TZOFFSETFROM:+0100
TZOFFSETTO:+0200
TZNAME:CEST
DTSTART:20240331T010000
END:DAYLIGHT
BEGIN:STANDARD
TZOFFSETFROM:+0200
TZOFFSETTO:+0100
TZNAME:CET
DTSTART:20241027T010000
END:STANDARD
END:VTIMEZONE
BEGIN:VEVENT
DTSTART;TZID=Europe/Budapest:20230314T100000
DTEND;TZID=Europe/Budapest:20230314T110000
DTSTAMP:20260424T003845
CREATED:20240314T163833Z
LAST-MODIFIED:20240314T163833Z
UID:1117-1678788000-1678791600@terszinhaz.hu
SUMMARY:Magyarföldi szentek
DESCRIPTION:A magyar föld éltető ereje bőséggel kínál bennünket testben és lélekben egyaránt. Az alföld aranyló búzamezői\, Tokaj szöllejének nektárja\, a szabolcsi alma dús zamata\, hősök\, mártírok\, és szentek\, édes anyanyelvünk a mi gazdag örökségünk. Színházi műhelyünk feladata ezt szolgálni. \nA Magyarföldi szentek sorozatban rövid\, tíz-tizenöt perces játékok jelenítik meg szentjeink legendáit. Népdalok\, népi vallásos énekek\, átlelkesült képek\, maszkok\, bábok\, és színjáték teremti elénk Savária (Szombathely) szülöttét\, a templomvédő Mártont\, országalapító királyunkat\, Istvánt és fiát\, Imre herceget\, a szűz ifjak őrzőjét\, és Gellértet mártírpüspökünket\, aztán Lászlót\, az Erdélyt védő lovagkirályunkat. Életet kapnak az Árpádház édes leányai is. Boldog Margit a Nyulak szigetén\, testvérnépünknek\, a lengyelnek földjén pedig Kinga\, és az utolsó Árpád leány\, a rózsák királynője Erzsébet\, az elesettek gyámolítója és gyógyítója. \nRendező: BUCZ HUNOR \nHelyszín:\nCsillaghegyi Polgári Kör
URL:https://terszinhaz.hu/musor/magyarfoldi-szentek-3/
CATEGORIES:Színház
END:VEVENT
BEGIN:VEVENT
DTSTART;TZID=Europe/Budapest:20230326T170000
DTEND;TZID=Europe/Budapest:20230326T183000
DTSTAMP:20260424T003845
CREATED:20240314T153119Z
LAST-MODIFIED:20240314T153119Z
UID:1050-1679850000-1679855400@terszinhaz.hu
SUMMARY:A Vigéc
DESCRIPTION:A rendező naplójából: \nPáskándi Géza A vigéc című zord bohózatában nemzeti megmaradásunkról\, hagyományaink\, értékeink megőrzéséről szól. Az abszurdoid középpontjában egy család áll. Töredékes család. Korosodó házaspár és egy szem leányuk. Köznapi életüket egy jövevény\, egy kereskedelmi utazó\, egy háztartási gépekkel házaló vigéc zavarja fel.\nEz a törpe\, ez a zsugorított Mefisztó a jobb élet reményéért cserébe nagy árat kér tőlük. Anyanyelvük\, történelmük\, kultúrájuk elfelejtését. \nA dráma zord bohózat. Pillanatkép történelmi létünk képtelenségéről. Szemléletét hitvitázó drámáink élessége és a székely viccek akasztófahumora jellemzi. Az író gyötrelmesen éli meg művében a magyarság fenyegetettségét\, de van benne annyi kurázsi\, hogy a magyar dal hősét kövesse: mikor immár halálfia\, ránk nevet mégis.\nPáskándi darabjának időszerűsége aligha kétséges\, ízig-vérig mai\, sokat merít a kommedia dell’arte hagyományaiból. \nNE FOGJA ŐT A FELEDÉS! \nPénzes Ciprián\, kereskedelmi utazó – Csuka János\nKádas József\, nyugdíjas – Kovács J. István\nMargit\, a neje – Szamosvári Gyöngyvér\nZsuzsa\, a lányuk – Kelecsényi Panni\nSzunnyai\, az albérlőjük – Téglás Márton \nFény\, hang: Papp Krisztina\, Vajkó Anísia \nRendezte – Bucz Hunor (Jászai Mari-díjas) \n  \nHelyszín:\nNémeth Lajos Műv. Ház 9761 Táplánszentkereszt Fő út 4-6.Vas vármegye\, Déryné Program
URL:https://terszinhaz.hu/musor/a-vigec-11/
CATEGORIES:Színház
END:VEVENT
END:VCALENDAR