BEGIN:VCALENDAR
VERSION:2.0
PRODID:-//Térszínház - ECPv6.15.11//NONSGML v1.0//EN
CALSCALE:GREGORIAN
METHOD:PUBLISH
X-WR-CALNAME:Térszínház
X-ORIGINAL-URL:https://terszinhaz.hu
X-WR-CALDESC:Események Térszínház
REFRESH-INTERVAL;VALUE=DURATION:PT1H
X-Robots-Tag:noindex
X-PUBLISHED-TTL:PT1H
BEGIN:VTIMEZONE
TZID:Europe/Budapest
BEGIN:DAYLIGHT
TZOFFSETFROM:+0100
TZOFFSETTO:+0200
TZNAME:CEST
DTSTART:20220327T010000
END:DAYLIGHT
BEGIN:STANDARD
TZOFFSETFROM:+0200
TZOFFSETTO:+0100
TZNAME:CET
DTSTART:20221030T010000
END:STANDARD
BEGIN:DAYLIGHT
TZOFFSETFROM:+0100
TZOFFSETTO:+0200
TZNAME:CEST
DTSTART:20230326T010000
END:DAYLIGHT
BEGIN:STANDARD
TZOFFSETFROM:+0200
TZOFFSETTO:+0100
TZNAME:CET
DTSTART:20231029T010000
END:STANDARD
BEGIN:DAYLIGHT
TZOFFSETFROM:+0100
TZOFFSETTO:+0200
TZNAME:CEST
DTSTART:20240331T010000
END:DAYLIGHT
BEGIN:STANDARD
TZOFFSETFROM:+0200
TZOFFSETTO:+0100
TZNAME:CET
DTSTART:20241027T010000
END:STANDARD
END:VTIMEZONE
BEGIN:VEVENT
DTSTART;TZID=Europe/Budapest:20231114T190000
DTEND;TZID=Europe/Budapest:20231114T203000
DTSTAMP:20260423T125930
CREATED:20240314T195747Z
LAST-MODIFIED:20240314T195747Z
UID:1187-1699988400-1699993800@terszinhaz.hu
SUMMARY:Antigoné
DESCRIPTION:JEGYVÁSÁRLÁS ITT\nSzophoklész Antigonéját 1996-ban mutattuk be\, a fokozott érdeklődésre való tekintettel\, azóta is folyamatosan műsoron tartjuk. Rendezője\, a Jászai Mari-díjas Bucz Hunor 2022-ben eltávozott közülünk\, így az előadás felújításának és életben tartásának feladata az itt maradt művésztársakra szállt. Nagy örömünkre\nKaj Ádám\, mint a felújítórendező munkatársa és Eperjes Károly\, Kossuth- és Jászai-díjas művész\, mint felújítórendező vesz részt a produkcióban. Mindketten személyes kapcsolatot ápoltak Bucz Hunorral\, színházi nyelvének és ars poeticájának értő tolmácsolói. A felújított előadásban 3 új színművészt is köszönthetünk: Kelecsényi Pannit\, Wettstein Márkot és Szakács Tibort. \nA rendező naplójából: \nAz állam és az egy szem emberi lény egymást megtűrő együttélése sikertelen.\nAz emberiség története dicstelen kísérletek sora. Az állam ethosza és az ember méltósága kibékíthetetlenül szemben állnak. Jaj annak\, aki megtestesíteni készül bármelyiket… Jaj Kreónnak és jaj Antigonénak. A teremtés bűne ez. \n“Kreón: Holtan se méltó szeretetre gyűlölőnk.\nAntigoné: Az én vezérem szeretet\, nem gyűlölet.\nKreón: Vezéreljen az Alvilágba: ott szeress!”
URL:https://terszinhaz.hu/musor/antigone-13/
CATEGORIES:Színház
END:VEVENT
BEGIN:VEVENT
DTSTART;TZID=Europe/Budapest:20231116T190000
DTEND;TZID=Europe/Budapest:20231116T210000
DTSTAMP:20260423T125930
CREATED:20231101T111553Z
LAST-MODIFIED:20231101T113441Z
UID:209-1700161200-1700168400@terszinhaz.hu
SUMMARY:Homo Szovjetikusz
DESCRIPTION:JEGYVÁSÁRLÁS ITT \nPintér Károly: Homo Szovjetikusz – monodráma\nSztálin (Szakács Tibor) füstbe burkolva\, megperzselt szárnyakkal\, sötét angyalként lép a színpadra. A helyszín egykori irodája a Kremlben. Történetünk napjainkban játszódik\, egy hétvégén: az iroda jelenlegi lakója\, Putyin\, épp szabadnapos. Sztálin elmeséli miért van a földön: az alvilági bíróság még mindig nem döntött sorsáról. Pokolra küldik\, vagy tán reinkarnáció lesz a jussa? „Több mint 60 éve várok a döntésre\, ott a tornácon\, mert Sztálin kemény dió azoknak az alvilági bíráknak.” \n\n  \nAz előadás írója és rendezője\, Pintér Károly így fogalmaz: \nJoszif Visszarionovics Sztálin egy tömeggyilkos gazember\, ördögi figura\, de erősen feltételezhető\, hogy ő nem így látta önmagát. A Homo Szovjetikusz című monodráma szerzője Sztálin kormos\, pokoljárta köpenyébe bújt\, és a történelmi figura szemén keresztül láttatja a nézővel annak életét\, döntéseit\, történelmi jelentőségét. Ez a Sztálin szubjektív\, minden szörnyűséget\, rémtettet másokra hárító alak. Hisz a saját értelmezésének igazában\, ahogy valószínűleg a valódi Sztálin is hitt. Gyanakvó\, paranoiás személy volt\, a színpadon is az. A rendező és a színész dolga\, hogy hiteles\, belső „igazsággal” rendelkező portrét rajzoljon Sztálinról. Feladatunk\, hogy Sztálin színpadi alakja a nézőt elgondolkodásra késztesse\, amelyek révén válaszok születhetnek a háborúval küszködő jelenünk nagy kérdéseire is. \nA monodráma során átélhetővé válik a kegyetlen diktátor belső énje\, miközben számos ismeretre tehetünk szert a totalitárius hatalom természetéről és konkrétabban a múltszázadot meghatározó orosz-szovjet történelemről. A téma kihat jelenünkre\, hiszen az orosz-ukrán háború árnyékában éljük mindennapjainkat és a 20. század történései korunk nagyhatalmi konfliktusival szoros összefüggésben vannak. \nÍRTA ÉS RENDEZTE – Pintér Károly\nSZTÁLIN – Szakács Tibor \nTovábbi közreműködők: Szamosvári Gyöngyvér\, Papp Annamária\, Csuka János \, Tóth János Gergely \nSzcenika: Perger László\nProdukciós vezető: Bucz Magor
URL:https://terszinhaz.hu/musor/homo-szovjetikusz-3/
LOCATION:Térszínház\, Fő tér 1\, Budapest\, Budapest\, 1033\, Magyarország
CATEGORIES:Színház
ATTACH;FMTTYPE=image/jpeg:https://terszinhaz.hu/wp-content/uploads/2023/10/homo_1_1500.jpg
END:VEVENT
BEGIN:VEVENT
DTSTART;TZID=Europe/Budapest:20231117T190000
DTEND;TZID=Europe/Budapest:20231117T213000
DTSTAMP:20260423T125930
CREATED:20231101T113926Z
LAST-MODIFIED:20231101T113926Z
UID:232-1700247600-1700256600@terszinhaz.hu
SUMMARY:Homo Szovjetikusz
DESCRIPTION:JEGYVÁSÁRLÁS ITT \nPintér Károly: Homo Szovjetikusz – monodráma\nSztálin (Szakács Tibor) füstbe burkolva\, megperzselt szárnyakkal\, sötét angyalként lép a színpadra. A helyszín egykori irodája a Kremlben. Történetünk napjainkban játszódik\, egy hétvégén: az iroda jelenlegi lakója\, Putyin\, épp szabadnapos. Sztálin elmeséli miért van a földön: az alvilági bíróság még mindig nem döntött sorsáról. Pokolra küldik\, vagy tán reinkarnáció lesz a jussa? „Több mint 60 éve várok a döntésre\, ott a tornácon\, mert Sztálin kemény dió azoknak az alvilági bíráknak.” \n\n  \nAz előadás írója és rendezője\, Pintér Károly így fogalmaz: \nJoszif Visszarionovics Sztálin egy tömeggyilkos gazember\, ördögi figura\, de erősen feltételezhető\, hogy ő nem így látta önmagát. A Homo Szovjetikusz című monodráma szerzője Sztálin kormos\, pokoljárta köpenyébe bújt\, és a történelmi figura szemén keresztül láttatja a nézővel annak életét\, döntéseit\, történelmi jelentőségét. Ez a Sztálin szubjektív\, minden szörnyűséget\, rémtettet másokra hárító alak. Hisz a saját értelmezésének igazában\, ahogy valószínűleg a valódi Sztálin is hitt. Gyanakvó\, paranoiás személy volt\, a színpadon is az. A rendező és a színész dolga\, hogy hiteles\, belső „igazsággal” rendelkező portrét rajzoljon Sztálinról. Feladatunk\, hogy Sztálin színpadi alakja a nézőt elgondolkodásra késztesse\, amelyek révén válaszok születhetnek a háborúval küszködő jelenünk nagy kérdéseire is. \nA monodráma során átélhetővé válik a kegyetlen diktátor belső énje\, miközben számos ismeretre tehetünk szert a totalitárius hatalom természetéről és konkrétabban a múltszázadot meghatározó orosz-szovjet történelemről. A téma kihat jelenünkre\, hiszen az orosz-ukrán háború árnyékában éljük mindennapjainkat és a 20. század történései korunk nagyhatalmi konfliktusival szoros összefüggésben vannak. \nÍRTA ÉS RENDEZTE – Pintér Károly\nSZTÁLIN – Szakács Tibor \nTovábbi közreműködők: Szamosvári Gyöngyvér\, Papp Annamária\, Csuka János \, Tóth János Gergely \nSzcenika: Perger László\nProdukciós vezető: Bucz Magor \nJEGYVÁSÁRLÁS ITT
URL:https://terszinhaz.hu/musor/homo-szovjetikusz-4/
CATEGORIES:Színház
ATTACH;FMTTYPE=image/jpeg:https://terszinhaz.hu/wp-content/uploads/2023/10/homo_1_1500.jpg
END:VEVENT
BEGIN:VEVENT
DTSTART;TZID=Europe/Budapest:20231121T190000
DTEND;TZID=Europe/Budapest:20231121T210000
DTSTAMP:20260423T125930
CREATED:20231013T121245Z
LAST-MODIFIED:20231013T121245Z
UID:97-1700593200-1700600400@terszinhaz.hu
SUMMARY:Rómeóról és Júliáról
DESCRIPTION:A rendező naplójából: \n„A vágynak gátja kőfal nem lehet…” \nTalán sokunk fülében cseng ismerősen a jól ismert mondat Shakespeare egyik leghíresebb művéből. Két fiatal szerelmes\, akik egymásért mindent megtennének. Hiszik\, hogy ha bíznak egymásban\, határ a csillagos ég. De vajon a szerelem jó tanácsadó-e? Mint Illés szekere gyors\, hevesebb lángra kapnak tőle az emberi szívek. A szerelemmel való találkozás az egyik olyan pillanat az életben ahol egészen más ritmust kap a létezésünk. A másik ilyen pillanat a halállal való találkozás. Mind a kettő szelleme jócskán belengi az előadás világát. A két fiatal\, Rómeó és Júlia talán idejekorán találkozik mind a kettővel. Mi lett volna ha ez máshogyan alakul? \nSzereposztás \nPÁRIS\, ifjú nemesúrfi\, a herceg atyafia: Kecskeméti Róbert\nRÓMEÓ\, Montague fia: Szondi Tamás\nMERCUTIO\, a herceg rokona\, Rómeó barátja:\nCsuka János\nBENVOLIO\, a herceg rokona\, Rómeó barátja:\nKecskeméti Róbert\nTYBALT\, Capuletné unokaöccse: Téglás Márton\nLŐRINC\, Ferences barát:\nStubnya Béla\nJÚLIA\, Capuleték leánya: Kelecsényi Panni\nJÚLIA DAJKÁJA: Szamosvári Gyöngyvér\nHALÁL-ANGYAL: Papp Annamária \nZENÉSZEK: Riesz Péter (gitár)\, Bucz Magor (billentyű\, elektronika) \nPRODUKCIÓS VEZETŐ\, ZENESZERZŐ: Bucz Magor\nDRAMATURG: Pintér Károly \nRENDEZŐ: Tóth János Gergely
URL:https://terszinhaz.hu/musor/romeorol-es-juliarol/
LOCATION:Térszínház\, Fő tér 1\, Budapest\, Budapest\, 1033\, Magyarország
CATEGORIES:Színház
ATTACH;FMTTYPE=image/jpeg:https://terszinhaz.hu/wp-content/uploads/2023/10/tixa_cover-1.jpg
END:VEVENT
BEGIN:VEVENT
DTSTART;TZID=Europe/Budapest:20231122T190000
DTEND;TZID=Europe/Budapest:20231122T210000
DTSTAMP:20260423T125930
CREATED:20231013T121512Z
LAST-MODIFIED:20231013T121512Z
UID:100-1700679600-1700686800@terszinhaz.hu
SUMMARY:Rómeóról és Júliáról
DESCRIPTION:A rendező naplójából: \n„A vágynak gátja kőfal nem lehet…” \nTalán sokunk fülében cseng ismerősen a jól ismert mondat Shakespeare egyik leghíresebb művéből. Két fiatal szerelmes\, akik egymásért mindent megtennének. Hiszik\, hogy ha bíznak egymásban\, határ a csillagos ég. De vajon a szerelem jó tanácsadó-e? Mint Illés szekere gyors\, hevesebb lángra kapnak tőle az emberi szívek. A szerelemmel való találkozás az egyik olyan pillanat az életben ahol egészen más ritmust kap a létezésünk. A másik ilyen pillanat a halállal való találkozás. Mind a kettő szelleme jócskán belengi az előadás világát. A két fiatal\, Rómeó és Júlia talán idejekorán találkozik mind a kettővel. Mi lett volna ha ez máshogyan alakul? \nSzereposztás \nPÁRIS\, ifjú nemesúrfi\, a herceg atyafia: Kecskeméti Róbert\nRÓMEÓ\, Montague fia: Szondi Tamás\nMERCUTIO\, a herceg rokona\, Rómeó barátja:\nCsuka János\nBENVOLIO\, a herceg rokona\, Rómeó barátja:\nKecskeméti Róbert\nTYBALT\, Capuletné unokaöccse: Téglás Márton\nLŐRINC\, Ferences barát:\nStubnya Béla\nJÚLIA\, Capuleték leánya: Kelecsényi Panni\nJÚLIA DAJKÁJA: Szamosvári Gyöngyvér\nHALÁL-ANGYAL: Papp Annamária \nZENÉSZEK: Riesz Péter (gitár)\, Bucz Magor (billentyű\, elektronika) \nPRODUKCIÓS VEZETŐ\, ZENESZERZŐ: Bucz Magor\nDRAMATURG: Pintér Károly \nRENDEZŐ: Tóth János Gergely
URL:https://terszinhaz.hu/musor/romeorol-es-juliarol-2/
LOCATION:Térszínház\, Fő tér 1\, Budapest\, Budapest\, 1033\, Magyarország
ATTACH;FMTTYPE=image/jpeg:https://terszinhaz.hu/wp-content/uploads/2023/10/tixa_cover-1.jpg
END:VEVENT
BEGIN:VEVENT
DTSTART;TZID=Europe/Budapest:20231123T093000
DTEND;TZID=Europe/Budapest:20231123T103000
DTSTAMP:20260423T125930
CREATED:20240314T200009Z
LAST-MODIFIED:20240314T200009Z
UID:1189-1700731800-1700735400@terszinhaz.hu
SUMMARY:HOMÉROSZ: ILIÁSZ
DESCRIPTION:az Óbudai Gimn. tanulóinak
URL:https://terszinhaz.hu/musor/homerosz-iliasz-4/
CATEGORIES:Színház
END:VEVENT
BEGIN:VEVENT
DTSTART;TZID=Europe/Budapest:20231125T150000
DTEND;TZID=Europe/Budapest:20231125T170000
DTSTAMP:20260423T125930
CREATED:20231118T174855Z
LAST-MODIFIED:20231118T175327Z
UID:236-1700924400-1700931600@terszinhaz.hu
SUMMARY:Švejk - nyílvános főpróba
DESCRIPTION:JEGYVÁSÁRLÁS ITT \nŠvejket békés kutyakereskedőként éri az első világháború kitörésének híre törzshelyén\, a prágai Kehely kocsmában\, ahol megjegyzéseiért felségsértés gyanújába kerül. Megjárja a fogdát\, az elmegyógyintézetet\, majd a behívóparancs után a szimulánsok kórházát és a helyőrségi fogdát. Rendíthetetlen kedélyével mindenütt megússza a nehezét: előbb Katz tábori lelkész\, majd Lukaš hadnagy tisztiszolgája lesz. Egy túlbuzgalmából eredő botrány miatt gazdájával együtt a frontra indítják. Az út során – mely Magyarországot is érinti – leszállítják a vonatról\, orosz kémnek nézik\, és emiatt hadbíróság elé is állítják\, de bolond szerencséjével mindent átvészel\, és a frontvonalon újra találkozik szeretett főhadnagyával. \nA rendező naplójából: \nHašek klasszikusa talán a legismertebb és legnépszerűbb cseh irodalmi mű Magyarországon\, és éppen emiatt hajlamosak is vagyunk romantizálni annak groteszkbe hajló főhősét. Hovatovább sokan a cseh nemzet egészével azonosítják a švejki lelket\, miközben a csehek – ahogy Patrik Ouředník egyik esszéjében rámutat – egyszerre büszkék erre a hagyományra\, és egyszerre szégyellik azt: „inkább afféle családi albumként kezelik\, amit gondosan elrakva őrzünk a fiók mélyén\, de amit nem szívesen mutogatunk idegeneknek\, vagy csak miután előzetesen kiválogattuk a képeket.” Ahogy a csehekre\, úgy ránk is igaz a művel kapcsolatos skizofrén viszony\, csak míg az előbbi inkább néplélektani\, utóbbi egy ellentétes történelmi nézőpontból fakad. Hiszen hiába veszítjük el közösen a világháborút\, a felbomló monarchia helyén ők új országot nyernek\, mi pedig területeket (részben az ő javukra) veszítünk. Előadásunkban ezt a kettőséget szeretnénk megőrizni úgy\, hogy közben nem sérül a mű alaphumora. Švejk történelmi bolyongása éppen ezért apropó lehet saját közép-európaiságunk felülvizsgálatára is. \nŠvejk: Öller Roland\nKatz: Széplaky Géza\nLukáš: Szondi Tamás\nKatona: Bánföldi Szilárd\nKatona: Csuka János\nKatona: Tóth János Gergely\nAz Örök Nő: Cseke Brigitta\nŠvejk mama: Szamosvári Gyöngyvér\nEgy józanító hang Budapestről: Kovács J. István \nLátvány: Orth M. Dániel\nSzcenika: Perger László\nVideó: Tinordi-Karvaly Bence\nTechnika: Braun Barna\nA rendező munkatársa: Andrási Ágnes\nDalszövegek: Vörös István (József Attila-díjas)\nZenészek: Smokin’ Chimney zenekar\nZeneszerző\, produkciós vezető: Bucz Magor\nMentor: Kozma András\nProjektvezető: Kolti Helga \nRendező: Kaj Ádám \n* Az előadás a DÉRYNÉ Program hozzájárulásával valósul meg. \nJEGYVÁSÁRLÁS ITT
URL:https://terszinhaz.hu/musor/svejk-nyilvanos-foproba/
CATEGORIES:Színház
ATTACH;FMTTYPE=image/jpeg:https://terszinhaz.hu/wp-content/uploads/2023/11/svejk_fb_cover_jpg.jpg
END:VEVENT
BEGIN:VEVENT
DTSTART;TZID=Europe/Budapest:20231125T190000
DTEND;TZID=Europe/Budapest:20231125T210000
DTSTAMP:20260423T125930
CREATED:20231118T175549Z
LAST-MODIFIED:20231118T175549Z
UID:240-1700938800-1700946000@terszinhaz.hu
SUMMARY:Švejk - bemutató
DESCRIPTION:JEGYVÁSÁRLÁS ITT \nŠvejket békés kutyakereskedőként éri az első világháború kitörésének híre törzshelyén\, a prágai Kehely kocsmában\, ahol megjegyzéseiért felségsértés gyanújába kerül. Megjárja a fogdát\, az elmegyógyintézetet\, majd a behívóparancs után a szimulánsok kórházát és a helyőrségi fogdát. Rendíthetetlen kedélyével mindenütt megússza a nehezét: előbb Katz tábori lelkész\, majd Lukaš hadnagy tisztiszolgája lesz. Egy túlbuzgalmából eredő botrány miatt gazdájával együtt a frontra indítják. Az út során – mely Magyarországot is érinti – leszállítják a vonatról\, orosz kémnek nézik\, és emiatt hadbíróság elé is állítják\, de bolond szerencséjével mindent átvészel\, és a frontvonalon újra találkozik szeretett főhadnagyával. \nA rendező naplójából: \nHašek klasszikusa talán a legismertebb és legnépszerűbb cseh irodalmi mű Magyarországon\, és éppen emiatt hajlamosak is vagyunk romantizálni annak groteszkbe hajló főhősét. Hovatovább sokan a cseh nemzet egészével azonosítják a švejki lelket\, miközben a csehek – ahogy Patrik Ouředník egyik esszéjében rámutat – egyszerre büszkék erre a hagyományra\, és egyszerre szégyellik azt: „inkább afféle családi albumként kezelik\, amit gondosan elrakva őrzünk a fiók mélyén\, de amit nem szívesen mutogatunk idegeneknek\, vagy csak miután előzetesen kiválogattuk a képeket.” Ahogy a csehekre\, úgy ránk is igaz a művel kapcsolatos skizofrén viszony\, csak míg az előbbi inkább néplélektani\, utóbbi egy ellentétes történelmi nézőpontból fakad. Hiszen hiába veszítjük el közösen a világháborút\, a felbomló monarchia helyén ők új országot nyernek\, mi pedig területeket (részben az ő javukra) veszítünk. Előadásunkban ezt a kettőséget szeretnénk megőrizni úgy\, hogy közben nem sérül a mű alaphumora. Švejk történelmi bolyongása éppen ezért apropó lehet saját közép-európaiságunk felülvizsgálatára is. \nŠvejk: Öller Roland\nKatz: Széplaky Géza\nLukáš: Szondi Tamás\nKatona: Bánföldi Szilárd\nKatona: Csuka János\nKatona: Tóth János Gergely\nAz Örök Nő: Cseke Brigitta\nŠvejk mama: Szamosvári Gyöngyvér\nEgy józanító hang Budapestről: Kovács J. István \nLátvány: Orth M. Dániel\nSzcenika: Perger László\nVideó: Tinordi-Karvaly Bence\nTechnika: Braun Barna\nA rendező munkatársa: Andrási Ágnes\nDalszövegek: Vörös István (József Attila-díjas)\nZenészek: Smokin’ Chimney zenekar\nZeneszerző\, produkciós vezető: Bucz Magor\nMentor: Kozma András\nProjektvezető: Kolti Helga \nRendező: Kaj Ádám \n* Az előadás a DÉRYNÉ Program hozzájárulásával valósul meg. \nJEGYVÁSÁRLÁS ITT
URL:https://terszinhaz.hu/musor/svejk-bemutato/
CATEGORIES:Színház
ATTACH;FMTTYPE=image/jpeg:https://terszinhaz.hu/wp-content/uploads/2023/11/svejk_fb_cover_jpg.jpg
END:VEVENT
END:VCALENDAR