BEGIN:VCALENDAR
VERSION:2.0
PRODID:-//Térszínház - ECPv6.15.11//NONSGML v1.0//EN
CALSCALE:GREGORIAN
METHOD:PUBLISH
X-WR-CALNAME:Térszínház
X-ORIGINAL-URL:https://terszinhaz.hu
X-WR-CALDESC:Események Térszínház
REFRESH-INTERVAL;VALUE=DURATION:PT1H
X-Robots-Tag:noindex
X-PUBLISHED-TTL:PT1H
BEGIN:VTIMEZONE
TZID:Europe/Budapest
BEGIN:DAYLIGHT
TZOFFSETFROM:+0100
TZOFFSETTO:+0200
TZNAME:CEST
DTSTART:20220327T010000
END:DAYLIGHT
BEGIN:STANDARD
TZOFFSETFROM:+0200
TZOFFSETTO:+0100
TZNAME:CET
DTSTART:20221030T010000
END:STANDARD
BEGIN:DAYLIGHT
TZOFFSETFROM:+0100
TZOFFSETTO:+0200
TZNAME:CEST
DTSTART:20230326T010000
END:DAYLIGHT
BEGIN:STANDARD
TZOFFSETFROM:+0200
TZOFFSETTO:+0100
TZNAME:CET
DTSTART:20231029T010000
END:STANDARD
BEGIN:DAYLIGHT
TZOFFSETFROM:+0100
TZOFFSETTO:+0200
TZNAME:CEST
DTSTART:20240331T010000
END:DAYLIGHT
BEGIN:STANDARD
TZOFFSETFROM:+0200
TZOFFSETTO:+0100
TZNAME:CET
DTSTART:20241027T010000
END:STANDARD
END:VTIMEZONE
BEGIN:VEVENT
DTSTART;TZID=Europe/Budapest:20231212T190000
DTEND;TZID=Europe/Budapest:20231212T203000
DTSTAMP:20260423T113248
CREATED:20231128T132645Z
LAST-MODIFIED:20241022T122027Z
UID:243-1702407600-1702413000@terszinhaz.hu
SUMMARY:Antigoné
DESCRIPTION:JEGYVÁSÁRLÁS ITT\nSzophoklész Antigonéját 1996-ban mutattuk be\, a fokozott érdeklődésre való tekintettel\, azóta is folyamatosan műsoron tartjuk. Rendezője\, a Jászai Mari-díjas Bucz Hunor 2022-ben eltávozott közülünk\, így az előadás felújításának és életben tartásának feladata az itt maradt művésztársakra szállt. Nagy örömünkre\nKaj Ádám\, mint a felújítórendező munkatársa és Eperjes Károly\, Kossuth- és Jászai-díjas művész\, mint felújítórendező vesz részt a produkcióban. Mindketten személyes kapcsolatot ápoltak Bucz Hunorral\, színházi nyelvének és ars poeticájának értő tolmácsolói. A felújított előadásban 3 új színművészt is köszönthetünk: Kelecsényi Pannit\, Wettstein Márkot és Szakács Tibort. \nA rendező naplójából: \nAz állam és az egy szem emberi lény egymást megtűrő együttélése sikertelen.\nAz emberiség története dicstelen kísérletek sora. Az állam ethosza és az ember méltósága kibékíthetetlenül szemben állnak. Jaj annak\, aki megtestesíteni készül bármelyiket… Jaj Kreónnak és jaj Antigonénak. A teremtés bűne ez. \n“Kreón: Holtan se méltó szeretetre gyűlölőnk.\nAntigoné: Az én vezérem szeretet\, nem gyűlölet.\nKreón: Vezéreljen az Alvilágba: ott szeress!” \nSzereposztás\, alkotók: \nAntigoné: Papp Annamária\nTeiresziász\, Iszméné: Kelecsényi Panni (két szerepben)\nŐr: Csuka János\nHaimon: Wettstein Márk\nKreón: Téglás Márton\nKarvezető: Szakács tibor\nThébai vének: Kecskeméti Róbert\, Wettstein Márk\, Szamosvári Gyöngyvér \nMaszk: Perger László\nJelmez: Zanotta Veronika\nÁrnykép: Kovács J. István\nFény: Braun Barna\nAsszisztens: Orbán Estilla \nProdukciós vezető: Bucz Magor (Junior Prima-díjas)\nA felújítórendező munkatársa: Kaj Ádám \nFelújítórendező: Eperjes Károly (Kossuth- és Jászai-díjas) \nRendezte: Bucz Hunor (Jászai-díjas) \n  \nAz előadás része a Térszínház alapító-igazgatójára\, Bucz Hunorra emlékező programsorozatunknak. A programsorozat fő támogatója: Kulturális és Innovációs Minisztérium. \n  \nJEGYVÁSÁRLÁS ITT
URL:https://terszinhaz.hu/musor/antigone-2/
LOCATION:Térszínház\, Fő tér 1\, Budapest\, Budapest\, 1033\, Magyarország
CATEGORIES:Színház
ATTACH;FMTTYPE=image/jpeg:https://terszinhaz.hu/wp-content/uploads/2023/11/tixa_cover.jpg
END:VEVENT
BEGIN:VEVENT
DTSTART;TZID=Europe/Budapest:20231214T190000
DTEND;TZID=Europe/Budapest:20231214T210000
DTSTAMP:20260423T113248
CREATED:20231128T133020Z
LAST-MODIFIED:20231216T022301Z
UID:248-1702580400-1702587600@terszinhaz.hu
SUMMARY:Antigoné
DESCRIPTION:JEGYVÁSÁRLÁS ITT\nSzophoklész Antigonéját 1996-ban mutattuk be\, a fokozott érdeklődésre való tekintettel\, azóta is folyamatosan műsoron tartjuk. Rendezője\, a Jászai Mari-díjas Bucz Hunor 2022-ben eltávozott közülünk\, így az előadás felújításának és életben tartásának feladata az itt maradt művésztársakra szállt. Nagy örömünkre\nKaj Ádám\, mint a felújítórendező munkatársa és Eperjes Károly\, Kossuth- és Jászai-díjas művész\, mint felújítórendező vesz részt a produkcióban. Mindketten személyes kapcsolatot ápoltak Bucz Hunorral\, színházi nyelvének és ars poeticájának értő tolmácsolói. A felújított előadásban 3 új színművészt is köszönthetünk: Kelecsényi Pannit\, Wettstein Márkot és Szakács Tibort. \nA rendező naplójából: \nAz állam és az egy szem emberi lény egymást megtűrő együttélése sikertelen.\nAz emberiség története dicstelen kísérletek sora. Az állam ethosza és az ember méltósága kibékíthetetlenül szemben állnak. Jaj annak\, aki megtestesíteni készül bármelyiket… Jaj Kreónnak és jaj Antigonénak. A teremtés bűne ez. \n“Kreón: Holtan se méltó szeretetre gyűlölőnk.\nAntigoné: Az én vezérem szeretet\, nem gyűlölet.\nKreón: Vezéreljen az Alvilágba: ott szeress!” \nSzereposztás\, alkotók: \nAntigoné: Papp Annamária\nTeiresziász\, Iszméné: Kelecsényi Panni (két szerepben)\nŐr: Csuka János\nHaimon: Wettstein Márk\nKreón: Téglás Márton\nKarvezető: Szakács tibor\nThébai vének: Kecskeméti Róbert\, Wettstein Márk\, Szamosvári Gyöngyvér \nMaszk: Perger László\nJelmez: Zanotta Veronika\nÁrnykép: Kovács J. István\nFény: Braun Barna\nAsszisztens: Orbán Estilla \nProdukciós vezető: Bucz Magor (Junior Prima-díjas)\nA felújítórendező munkatársa: Kaj Ádám \nFelújítórendező: Eperjes Károly  (Kossuth- és Jászai-díjas) \nRendezte: Bucz Hunor (Jászai-díjas) \nJEGYVÁSÁRLÁS ITT
URL:https://terszinhaz.hu/musor/antigone-3/
LOCATION:Térszínház\, Fő tér 1\, Budapest\, Budapest\, 1033\, Magyarország
CATEGORIES:Színház
ATTACH;FMTTYPE=image/jpeg:https://terszinhaz.hu/wp-content/uploads/2023/11/tixa_cover.jpg
END:VEVENT
BEGIN:VEVENT
DTSTART;TZID=Europe/Budapest:20231215T190000
DTEND;TZID=Europe/Budapest:20231215T200000
DTSTAMP:20260423T113248
CREATED:20231128T133831Z
LAST-MODIFIED:20231128T133941Z
UID:251-1702666800-1702670400@terszinhaz.hu
SUMMARY:Levél a föld alól - in memoriam Hervay Gizella
DESCRIPTION:JEGYVÁSÁRLÁS ITT\nA Levél a föld alól misztérium\, Hervay Gizella verseiből készült. A szatmárcsekei temetőből ismert\, csónak formájú fejfa körül játszódik. Három jelentés préselődik egymásra. Jézus Golgotája\, a magyar történelem tragikuma és a költőnő életének drámája. Szamosvári Gyöngyvér és Papp Annamária\, a Térszínház művészei megidézik Hervay Gizellát\, a költőt\, mert hisszük\, hogy otthonra lelnek itt\, a Duna-Tisza tájékán. A magyar népdalokkal és vallásos énekekkel\, gardon kísérettel elmondott szövegek Bucz Hunor rendezésében táltos imaként\, táltos átokként\, táltos utazásként szólnak mindnyájunkhoz. \nHervay Gizella\, költő. Makón született 1934. október 10-én\, elhunyt 1982. július 2-án Budapesten. 1945-től 1975-ig a Partiumban és Erdélyben\, illetve Bukarestben élt.Válása után egyedül nem győzi a küszködést\, és 1976-ban Magyarországra menekül a romániai zaklatások\, fenyegetések elől\, de itt sem lel hazára. Fiának tragikus halála és a magyar kivetettség felőrli életét\, mégis táltosokat igéző\, nem földi erővel megírja a sors által rábízott verseket. Utolsó kötetét nyomdába adja\, de már nem várja meg a megjelenést. Életműve kikerülhetetlen\, költői testamentuma mértéket ad mindnyájunknak\, még akkor is\, ha irodalmi közéletünk alig vesz róla tudomást. A Lódenkabát Kelete Európa szegén verses kötete készültekor gyakran találkozhattunk vele. Szerette a Térszínház előadásait\, szerette ünnepeinket\, és sok kedves népdalt tanított meg nekünk. Ciklusról\, ciklusra követhettük munkáját\, együtt örültünk vele a nyomdába adás napján és a könyv borítójának láttán. mert Deim Pál alkotásának szimbolikus ereje a versek drámaiságában fogant. Nem tudtuk még\, hogy utolsó kötete lesz ez\, és Hervay Gizella végakarata teljesül benne. \nJEGYVÁSÁRLÁS ITT
URL:https://terszinhaz.hu/musor/level-a-fold-alol-in-memoriam-hervay-gizella-2/
LOCATION:Térszínház\, Fő tér 1\, Budapest\, Budapest\, 1033\, Magyarország
CATEGORIES:Irodalom,Színház
ATTACH;FMTTYPE=image/jpeg:https://terszinhaz.hu/wp-content/uploads/2023/10/10322870_843410799006846_606724626_n-1.jpg
END:VEVENT
BEGIN:VEVENT
DTSTART;TZID=Europe/Budapest:20231217T150000
DTEND;TZID=Europe/Budapest:20231217T160000
DTSTAMP:20260423T113248
CREATED:20240314T200212Z
LAST-MODIFIED:20240314T200212Z
UID:1191-1702825200-1702828800@terszinhaz.hu
SUMMARY:Magyarföldi szentek
DESCRIPTION:A magyar föld éltető ereje bőséggel kínál bennünket testben és lélekben egyaránt. Az alföld aranyló búzamezői\, Tokaj szöllejének nektárja\, a szabolcsi alma dús zamata\, hősök\, mártírok\, és szentek\, édes anyanyelvünk a mi gazdag örökségünk. Színházi műhelyünk feladata ezt szolgálni. \nA Magyarföldi szentek sorozatban rövid\, tíz-tizenöt perces játékok jelenítik meg szentjeink legendáit. Népdalok\, népi vallásos énekek\, átlelkesült képek\, maszkok\, bábok\, és színjáték teremti elénk Savária (Szombathely) szülöttét\, a templomvédő Mártont\, országalapító királyunkat\, Istvánt és fiát\, Imre herceget\, a szűz ifjak őrzőjét\, és Gellértet mártírpüspökünket\, aztán Lászlót\, az Erdélyt védő lovagkirályunkat. Életet kapnak az Árpádház édes leányai is. Boldog Margit a Nyulak szigetén\, testvérnépünknek\, a lengyelnek földjén pedig Kinga\, és az utolsó Árpád leány\, a rózsák királynője Erzsébet\, az elesettek gyámolítója és gyógyítója. \nRendező: BUCZ HUNOR \nHelyszín:\nFő tér Adventi vásár
URL:https://terszinhaz.hu/musor/magyarfoldi-szentek-5/
CATEGORIES:Színház
END:VEVENT
BEGIN:VEVENT
DTSTART;TZID=Europe/Budapest:20231217T180000
DTEND;TZID=Europe/Budapest:20231217T193000
DTSTAMP:20260423T113248
CREATED:20231128T134320Z
LAST-MODIFIED:20240314T203621Z
UID:253-1702836000-1702841400@terszinhaz.hu
SUMMARY:Adventi ima - művészeti projekt
DESCRIPTION:JEGYVÁSÁRLÁS ITT\nMiként az angyalok és pásztorok énekkel és szóval köszöntötték a Kisjézust\, oly módon várjuk mi is Karácsony estéjét: zenék és versek kíséretében gyújtjuk meg az adventi gyertyákat.\nElhangoznak Albinoni\, Bach\, Corelli\, Händel zeneművei\, továbbá a magyar költészet legszebb istenes versei. Közreműködik a MilleniArt Ensemble\, művészeti vezető: Király Eszter.\nJegyek: 2300 Ft \nKözreműködők:\nSzamosvári Gyöngyvér – színművész\nDonáczi Cseperke – cselló\nThurnay Viola – ének\nGyódi Norbert – hegedű\nKisdi Gellért – brácsa\nSzilveszter Zsolt – csembaló\nZenei művészeti vezető: Király Eszter\nProdukciós vezető: Bucz Magor
URL:https://terszinhaz.hu/musor/adventi-ima-barokk-muveszeti-projekt/
LOCATION:Térszínház\, Fő tér 1\, Budapest\, Budapest\, 1033\, Magyarország
CATEGORIES:Zene
ATTACH;FMTTYPE=image/jpeg:https://terszinhaz.hu/wp-content/uploads/2023/11/Adventi-ima_FBeventcover-2.jpg
END:VEVENT
END:VCALENDAR