BEGIN:VCALENDAR
VERSION:2.0
PRODID:-//Térszínház - ECPv6.15.11//NONSGML v1.0//EN
CALSCALE:GREGORIAN
METHOD:PUBLISH
X-WR-CALNAME:Térszínház
X-ORIGINAL-URL:https://terszinhaz.hu
X-WR-CALDESC:Események Térszínház
REFRESH-INTERVAL;VALUE=DURATION:PT1H
X-Robots-Tag:noindex
X-PUBLISHED-TTL:PT1H
BEGIN:VTIMEZONE
TZID:Europe/Budapest
BEGIN:DAYLIGHT
TZOFFSETFROM:+0100
TZOFFSETTO:+0200
TZNAME:CEST
DTSTART:20230326T010000
END:DAYLIGHT
BEGIN:STANDARD
TZOFFSETFROM:+0200
TZOFFSETTO:+0100
TZNAME:CET
DTSTART:20231029T010000
END:STANDARD
BEGIN:DAYLIGHT
TZOFFSETFROM:+0100
TZOFFSETTO:+0200
TZNAME:CEST
DTSTART:20240331T010000
END:DAYLIGHT
BEGIN:STANDARD
TZOFFSETFROM:+0200
TZOFFSETTO:+0100
TZNAME:CET
DTSTART:20241027T010000
END:STANDARD
BEGIN:DAYLIGHT
TZOFFSETFROM:+0100
TZOFFSETTO:+0200
TZNAME:CEST
DTSTART:20250330T010000
END:DAYLIGHT
BEGIN:STANDARD
TZOFFSETFROM:+0200
TZOFFSETTO:+0100
TZNAME:CET
DTSTART:20251026T010000
END:STANDARD
END:VTIMEZONE
BEGIN:VEVENT
DTSTART;TZID=Europe/Budapest:20240109T190000
DTEND;TZID=Europe/Budapest:20240109T203000
DTSTAMP:20260423T100916
CREATED:20231216T022108Z
LAST-MODIFIED:20231223T050050Z
UID:265-1704826800-1704832200@terszinhaz.hu
SUMMARY:Rómeóról és Júliáról
DESCRIPTION:JEGYVÁSÁRLÁS ITT\nA rendező naplójából: \n„A vágynak gátja kőfal nem lehet…” \nTalán sokunk fülében cseng ismerősen a jól ismert mondat Shakespeare egyik leghíresebb művéből. Két fiatal szerelmes\, akik egymásért mindent megtennének. Hiszik\, hogy ha bíznak egymásban\, határ a csillagos ég. De vajon a szerelem jó tanácsadó-e? Mint Illés szekere gyors\, hevesebb lángra kapnak tőle az emberi szívek. A szerelemmel való találkozás az egyik olyan pillanat az életben ahol egészen más ritmust kap a létezésünk. A másik ilyen pillanat a halállal való találkozás. Mind a kettő szelleme jócskán belengi az előadás világát. A két fiatal\, Rómeó és Júlia talán idejekorán találkozik mind a kettővel. Mi lett volna ha ez máshogyan alakul? \nSzereposztás \nPÁRIS\, ifjú nemesúrfi\, a herceg atyafia: Kecskeméti Róbert\nRÓMEÓ\, Montague fia: Szondi Tamás\nMERCUTIO\, a herceg rokona\, Rómeó barátja:\nCsuka János\nBENVOLIO\, a herceg rokona\, Rómeó barátja:\nKecskeméti Róbert\nTYBALT\, Capuletné unokaöccse: Téglás Márton\nLŐRINC\, Ferences barát:\nStubnya Béla\nJÚLIA\, Capuleték leánya: Kelecsényi Panni\nJÚLIA DAJKÁJA: Szamosvári Gyöngyvér\nHALÁL-ANGYAL: Papp Annamária \nZENÉSZEK: Riesz Péter (gitár)\, Bucz Magor (billentyű\, elektronika) \nPRODUKCIÓS VEZETŐ\, ZENESZERZŐ: Bucz Magor\nDRAMATURG: Pintér Károly \nRENDEZŐ: Tóth János Gergely \nJEGYVÁSÁRLÁS ITT
URL:https://terszinhaz.hu/musor/romeorol-es-juliarol-3/
LOCATION:Térszínház\, Fő tér 1\, Budapest\, Budapest\, 1033\, Magyarország
ATTACH;FMTTYPE=image/jpeg:https://terszinhaz.hu/wp-content/uploads/2023/11/326226499_486741343622807_8924814027342518712_n.jpg
END:VEVENT
BEGIN:VEVENT
DTSTART;TZID=Europe/Budapest:20240110T190000
DTEND;TZID=Europe/Budapest:20240110T203000
DTSTAMP:20260423T100916
CREATED:20231216T022214Z
LAST-MODIFIED:20231223T050117Z
UID:267-1704913200-1704918600@terszinhaz.hu
SUMMARY:Rómeóról és Júliáról
DESCRIPTION:JEGYVÁSÁRLÁS ITT\nA rendező naplójából: \n„A vágynak gátja kőfal nem lehet…” \nTalán sokunk fülében cseng ismerősen a jól ismert mondat Shakespeare egyik leghíresebb művéből. Két fiatal szerelmes\, akik egymásért mindent megtennének. Hiszik\, hogy ha bíznak egymásban\, határ a csillagos ég. De vajon a szerelem jó tanácsadó-e? Mint Illés szekere gyors\, hevesebb lángra kapnak tőle az emberi szívek. A szerelemmel való találkozás az egyik olyan pillanat az életben ahol egészen más ritmust kap a létezésünk. A másik ilyen pillanat a halállal való találkozás. Mind a kettő szelleme jócskán belengi az előadás világát. A két fiatal\, Rómeó és Júlia talán idejekorán találkozik mind a kettővel. Mi lett volna ha ez máshogyan alakul? \nSzereposztás \nPÁRIS\, ifjú nemesúrfi\, a herceg atyafia: Kecskeméti Róbert\nRÓMEÓ\, Montague fia: Szondi Tamás\nMERCUTIO\, a herceg rokona\, Rómeó barátja:\nCsuka János\nBENVOLIO\, a herceg rokona\, Rómeó barátja:\nKecskeméti Róbert\nTYBALT\, Capuletné unokaöccse: Téglás Márton\nLŐRINC\, Ferences barát:\nStubnya Béla\nJÚLIA\, Capuleték leánya: Kelecsényi Panni\nJÚLIA DAJKÁJA: Szamosvári Gyöngyvér\nHALÁL-ANGYAL: Papp Annamária \nZENÉSZEK: Riesz Péter (gitár)\, Bucz Magor (billentyű\, elektronika) \nPRODUKCIÓS VEZETŐ\, ZENESZERZŐ: Bucz Magor\nDRAMATURG: Pintér Károly \nRENDEZŐ: Tóth János Gergely \nJEGYVÁSÁRLÁS ITT
URL:https://terszinhaz.hu/musor/romeorol-es-juliarol-4/
LOCATION:Térszínház\, Fő tér 1\, Budapest\, Budapest\, 1033\, Magyarország
CATEGORIES:Színház
ATTACH;FMTTYPE=image/jpeg:https://terszinhaz.hu/wp-content/uploads/2023/11/326226499_486741343622807_8924814027342518712_n.jpg
END:VEVENT
BEGIN:VEVENT
DTSTART;TZID=Europe/Budapest:20240114T170000
DTEND;TZID=Europe/Budapest:20240114T183000
DTSTAMP:20260423T100916
CREATED:20231216T022750Z
LAST-MODIFIED:20240103T154618Z
UID:269-1705251600-1705257000@terszinhaz.hu
SUMMARY:Versszóló délután - teltház
DESCRIPTION:JEGYVÁSÁRLÁS ITT\nFelolvasás D. Csapó Anna Asszony-versek című készülő kötetéből. Verseket mondanak a közönségből kiváló ismerősök\, barátok\, valamint a Térszínház művészei. \nD. Csapó Anna előszava:\n“Asszony. Állandó jelzőm is lehetne. Törekvéseim és a megvalósulások is ebből érthetők. Magyartanár\, népdalénekes\, filozófus\, költő és nagymama… Miért nem hozakodtam elő hamarabb a verseimmel? Talán asszonyságom\ngátolt ebben. A tojáshéj már régen megrepedt. Fiókáim most már repülni szeretnének. Hadd kukorékoljanak hát a kakasok is!” \nJEGYVÁSÁRLÁS ITT
URL:https://terszinhaz.hu/musor/versszolo-delutan/
LOCATION:Térszínház\, Fő tér 1\, Budapest\, Budapest\, 1033\, Magyarország
CATEGORIES:Irodalom
ATTACH;FMTTYPE=image/jpeg:https://terszinhaz.hu/wp-content/uploads/2023/12/asszonyversek.jpg
END:VEVENT
BEGIN:VEVENT
DTSTART;TZID=Europe/Budapest:20240115T190000
DTEND;TZID=Europe/Budapest:20240115T201000
DTSTAMP:20260423T100916
CREATED:20231216T023327Z
LAST-MODIFIED:20231223T050207Z
UID:272-1705345200-1705349400@terszinhaz.hu
SUMMARY:A Vigéc
DESCRIPTION:JEGYVÁSÁRLÁS ITT\nA rendező naplójából: \nPáskándi Géza A vigéc című zord bohózatában nemzeti megmaradásunkról\, hagyományaink\, értékeink megőrzéséről szól. Az abszurdoid középpontjában egy család áll. Töredékes család. Korosodó házaspár és egy szem leányuk. Köznapi életüket egy jövevény\, egy kereskedelmi utazó\, egy háztartási gépekkel házaló vigéc zavarja fel.\nEz a törpe\, ez a zsugorított Mefisztó a jobb élet reményéért cserébe nagy árat kér tőlük. Anyanyelvük\, történelmük\, kultúrájuk elfelejtését. \nA dráma zord bohózat. Pillanatkép történelmi létünk képtelenségéről. Szemléletét hitvitázó drámáink élessége és a székely viccek akasztófahumora jellemzi. Az író gyötrelmesen éli meg művében a magyarság fenyegetettségét\, de van benne annyi kurázsi\, hogy a magyar dal hősét kövesse: mikor immár halálfia\, ránk nevet mégis.\nPáskándi darabjának időszerűsége aligha kétséges\, ízig-vérig mai\, sokat merít a kommedia dell’arte hagyományaiból. \nNE FOGJA ŐT A FELEDÉS! \nPénzes Ciprián\, kereskedelmi utazó – Csuka János\nKádas József\, nyugdíjas – Janik László\nMargit\, a neje – Szamosvári Gyöngyvér\nZsuzsa\, a lányuk – Kelecsényi Panni\nSzunnyai\, az albérlőjük – Téglás Márton \nTechnika: Braun Barna \nRendezte – Bucz Hunor (Jászai Mari-díjas) \nJEGYVÁSÁRLÁS ITT
URL:https://terszinhaz.hu/musor/a-vigec/
LOCATION:Térszínház\, Fő tér 1\, Budapest\, Budapest\, 1033\, Magyarország
CATEGORIES:Színház
ATTACH;FMTTYPE=image/jpeg:https://terszinhaz.hu/wp-content/uploads/2023/12/Vigec_fb-esemeny-borito-4.jpg
END:VEVENT
BEGIN:VEVENT
DTSTART;TZID=Europe/Budapest:20240118T190000
DTEND;TZID=Europe/Budapest:20240118T203000
DTSTAMP:20260423T100916
CREATED:20231216T023926Z
LAST-MODIFIED:20231223T050233Z
UID:280-1705604400-1705609800@terszinhaz.hu
SUMMARY:Homo Szovjetikusz
DESCRIPTION:JEGYVÁSÁRLÁS ITT \nPintér Károly: Homo Szovjetikusz – monodráma\nSztálin (Szakács Tibor) füstbe burkolva\, megperzselt szárnyakkal\, sötét angyalként lép a színpadra. A helyszín egykori irodája a Kremlben. Történetünk napjainkban játszódik\, egy hétvégén: az iroda jelenlegi lakója\, Putyin\, épp szabadnapos. Sztálin elmeséli miért van a földön: az alvilági bíróság még mindig nem döntött sorsáról. Pokolra küldik\, vagy tán reinkarnáció lesz a jussa? „Több mint 60 éve várok a döntésre\, ott a tornácon\, mert Sztálin kemény dió azoknak az alvilági bíráknak.” \n\n  \nAz előadás írója és rendezője\, Pintér Károly így fogalmaz: \nJoszif Visszarionovics Sztálin egy tömeggyilkos gazember\, ördögi figura\, de erősen feltételezhető\, hogy ő nem így látta önmagát. A Homo Szovjetikusz című monodráma szerzője Sztálin kormos\, pokoljárta köpenyébe bújt\, és a történelmi figura szemén keresztül láttatja a nézővel annak életét\, döntéseit\, történelmi jelentőségét. Ez a Sztálin szubjektív\, minden szörnyűséget\, rémtettet másokra hárító alak. Hisz a saját értelmezésének igazában\, ahogy valószínűleg a valódi Sztálin is hitt. Gyanakvó\, paranoiás személy volt\, a színpadon is az. A rendező és a színész dolga\, hogy hiteles\, belső „igazsággal” rendelkező portrét rajzoljon Sztálinról. Feladatunk\, hogy Sztálin színpadi alakja a nézőt elgondolkodásra késztesse\, amelyek révén válaszok születhetnek a háborúval küszködő jelenünk nagy kérdéseire is. \nA monodráma során átélhetővé válik a kegyetlen diktátor belső énje\, miközben számos ismeretre tehetünk szert a totalitárius hatalom természetéről és konkrétabban a múltszázadot meghatározó orosz-szovjet történelemről. A téma kihat jelenünkre\, hiszen az orosz-ukrán háború árnyékában éljük mindennapjainkat és a 20. század történései korunk nagyhatalmi konfliktusival szoros összefüggésben vannak. \nÍRTA ÉS RENDEZTE – Pintér Károly\nSZTÁLIN – Szakács Tibor \nTovábbi közreműködők: Szamosvári Gyöngyvér\, Papp Annamária\, Csuka János \, Tóth János Gergely \nSzcenika: Perger László\nProdukciós vezető: Bucz Magor \nJEGYVÁSÁRLÁS ITT
URL:https://terszinhaz.hu/musor/homo-szovjetikusz-5/
LOCATION:Térszínház\, Fő tér 1\, Budapest\, Budapest\, 1033\, Magyarország
CATEGORIES:Színház
ATTACH;FMTTYPE=image/jpeg:https://terszinhaz.hu/wp-content/uploads/2023/10/homo_1_1500.jpg
END:VEVENT
BEGIN:VEVENT
DTSTART;TZID=Europe/Budapest:20240122T190000
DTEND;TZID=Europe/Budapest:20240122T201000
DTSTAMP:20260423T100916
CREATED:20231216T024236Z
LAST-MODIFIED:20231223T050258Z
UID:282-1705950000-1705954200@terszinhaz.hu
SUMMARY:Antigoné
DESCRIPTION:JEGYVÁSÁRLÁS ITT\nSzophoklész Antigonéját 1996-ban mutattuk be\, a fokozott érdeklődésre való tekintettel\, azóta is folyamatosan műsoron tartjuk. Rendezője\, a Jászai Mari-díjas Bucz Hunor 2022-ben eltávozott közülünk\, így az előadás felújításának és életben tartásának feladata az itt maradt művésztársakra szállt. Nagy örömünkre\nKaj Ádám\, mint a felújítórendező munkatársa és Eperjes Károly\, Kossuth- és Jászai-díjas művész\, mint felújítórendező vesz részt a produkcióban. Mindketten személyes kapcsolatot ápoltak Bucz Hunorral\, színházi nyelvének és ars poeticájának értő tolmácsolói. A felújított előadásban 3 új színművészt is köszönthetünk: Kelecsényi Pannit\, Wettstein Márkot és Szakács Tibort. \nA rendező naplójából: \nAz állam és az egy szem emberi lény egymást megtűrő együttélése sikertelen.\nAz emberiség története dicstelen kísérletek sora. Az állam ethosza és az ember méltósága kibékíthetetlenül szemben állnak. Jaj annak\, aki megtestesíteni készül bármelyiket… Jaj Kreónnak és jaj Antigonénak. A teremtés bűne ez. \n“Kreón: Holtan se méltó szeretetre gyűlölőnk.\nAntigoné: Az én vezérem szeretet\, nem gyűlölet.\nKreón: Vezéreljen az Alvilágba: ott szeress!” \nSzereposztás\, alkotók: \nAntigoné: Papp Annamária\nTeiresziász\, Iszméné: Kelecsényi Panni (két szerepben)\nŐr: Csuka János\nHaimon: Wettstein Márk\nKreón: Téglás Márton\nKarvezető: Szakács tibor\nThébai vének: Kecskeméti Róbert\, Wettstein Márk\, Szamosvári Gyöngyvér \nMaszk: Perger László\nJelmez: Zanotta Veronika\nÁrnykép: Kovács J. István\nFény: Braun Barna\nAsszisztens: Orbán Estilla \nProdukciós vezető: Bucz Magor (Junior Prima-díjas)\nA felújítórendező munkatársa: Kaj Ádám \nFelújítórendező: Eperjes Károly  (Kossuth- és Jászai-díjas) \nRendezte: Bucz Hunor (Jászai-díjas) \nJEGYVÁSÁRLÁS ITT
URL:https://terszinhaz.hu/musor/antigone-4/
LOCATION:Térszínház\, Fő tér 1\, Budapest\, Budapest\, 1033\, Magyarország
CATEGORIES:Színház
ATTACH;FMTTYPE=image/jpeg:https://terszinhaz.hu/wp-content/uploads/2023/11/tixa_cover.jpg
END:VEVENT
BEGIN:VEVENT
DTSTART;TZID=Europe/Budapest:20240123T190000
DTEND;TZID=Europe/Budapest:20240123T201000
DTSTAMP:20260423T100916
CREATED:20231216T024453Z
LAST-MODIFIED:20231223T050348Z
UID:286-1706036400-1706040600@terszinhaz.hu
SUMMARY:Antigoné
DESCRIPTION:JEGYVÁSÁRLÁS ITT\nSzophoklész Antigonéját 1996-ban mutattuk be\, a fokozott érdeklődésre való tekintettel\, azóta is folyamatosan műsoron tartjuk. Rendezője\, a Jászai Mari-díjas Bucz Hunor 2022-ben eltávozott közülünk\, így az előadás felújításának és életben tartásának feladata az itt maradt művésztársakra szállt. Nagy örömünkre\nKaj Ádám\, mint a felújítórendező munkatársa és Eperjes Károly\, Kossuth- és Jászai-díjas művész\, mint felújítórendező vesz részt a produkcióban. Mindketten személyes kapcsolatot ápoltak Bucz Hunorral\, színházi nyelvének és ars poeticájának értő tolmácsolói. A felújított előadásban 3 új színművészt is köszönthetünk: Kelecsényi Pannit\, Wettstein Márkot és Szakács Tibort. \nA rendező naplójából: \nAz állam és az egy szem emberi lény egymást megtűrő együttélése sikertelen.\nAz emberiség története dicstelen kísérletek sora. Az állam ethosza és az ember méltósága kibékíthetetlenül szemben állnak. Jaj annak\, aki megtestesíteni készül bármelyiket… Jaj Kreónnak és jaj Antigonénak. A teremtés bűne ez. \n“Kreón: Holtan se méltó szeretetre gyűlölőnk.\nAntigoné: Az én vezérem szeretet\, nem gyűlölet.\nKreón: Vezéreljen az Alvilágba: ott szeress!” \nSzereposztás\, alkotók: \nAntigoné: Papp Annamária\nTeiresziász\, Iszméné: Kelecsényi Panni (két szerepben)\nŐr: Csuka János\nHaimon: Wettstein Márk\nKreón: Téglás Márton\nKarvezető: Szakács tibor\nThébai vének: Kecskeméti Róbert\, Wettstein Márk\, Szamosvári Gyöngyvér \nMaszk: Perger László\nJelmez: Zanotta Veronika\nÁrnykép: Kovács J. István\nFény: Braun Barna\nAsszisztens: Orbán Estilla \nProdukciós vezető: Bucz Magor (Junior Prima-díjas)\nA felújítórendező munkatársa: Kaj Ádám \nFelújítórendező: Eperjes Károly  (Kossuth- és Jászai-díjas) \nRendezte: Bucz Hunor (Jászai-díjas) \nJEGYVÁSÁRLÁS ITT
URL:https://terszinhaz.hu/musor/antigone-5/
LOCATION:Térszínház\, Fő tér 1\, Budapest\, Budapest\, 1033\, Magyarország
CATEGORIES:Színház
ATTACH;FMTTYPE=image/jpeg:https://terszinhaz.hu/wp-content/uploads/2023/10/net_Tersz_Antigone_eoroszabo-6438.jpeg
END:VEVENT
BEGIN:VEVENT
DTSTART;TZID=Europe/Budapest:20240129T190000
DTEND;TZID=Europe/Budapest:20240129T203000
DTSTAMP:20260423T100916
CREATED:20231216T023622Z
LAST-MODIFIED:20231223T050426Z
UID:278-1706554800-1706560200@terszinhaz.hu
SUMMARY:A Vigéc
DESCRIPTION:JEGYVÁSÁRLÁS ITT\nA rendező naplójából: \nPáskándi Géza A vigéc című zord bohózatában nemzeti megmaradásunkról\, hagyományaink\, értékeink megőrzéséről szól. Az abszurdoid középpontjában egy család áll. Töredékes család. Korosodó házaspár és egy szem leányuk. Köznapi életüket egy jövevény\, egy kereskedelmi utazó\, egy háztartási gépekkel házaló vigéc zavarja fel.\nEz a törpe\, ez a zsugorított Mefisztó a jobb élet reményéért cserébe nagy árat kér tőlük. Anyanyelvük\, történelmük\, kultúrájuk elfelejtését. \nA dráma zord bohózat. Pillanatkép történelmi létünk képtelenségéről. Szemléletét hitvitázó drámáink élessége és a székely viccek akasztófahumora jellemzi. Az író gyötrelmesen éli meg művében a magyarság fenyegetettségét\, de van benne annyi kurázsi\, hogy a magyar dal hősét kövesse: mikor immár halálfia\, ránk nevet mégis.\nPáskándi darabjának időszerűsége aligha kétséges\, ízig-vérig mai\, sokat merít a kommedia dell’arte hagyományaiból. \nNE FOGJA ŐT A FELEDÉS! \nPénzes Ciprián\, kereskedelmi utazó – Csuka János\nKádas József\, nyugdíjas – Janik László\nMargit\, a neje – Szamosvári Gyöngyvér\nZsuzsa\, a lányuk – Kelecsényi Panni\nSzunnyai\, az albérlőjük – Téglás Márton \nTechnika: Braun Barna \nRendezte – Bucz Hunor (Jászai Mari-díjas) \nJEGYVÁSÁRLÁS ITT
URL:https://terszinhaz.hu/musor/a-vigec-2/
LOCATION:Térszínház\, Fő tér 1\, Budapest\, Budapest\, 1033\, Magyarország
CATEGORIES:Színház
ATTACH;FMTTYPE=image/jpeg:https://terszinhaz.hu/wp-content/uploads/2023/12/Vigec_fb-esemeny-borito-4.jpg
END:VEVENT
END:VCALENDAR