BEGIN:VCALENDAR
VERSION:2.0
PRODID:-//Térszínház - ECPv6.15.11//NONSGML v1.0//EN
CALSCALE:GREGORIAN
METHOD:PUBLISH
X-WR-CALNAME:Térszínház
X-ORIGINAL-URL:https://terszinhaz.hu
X-WR-CALDESC:Események Térszínház
REFRESH-INTERVAL;VALUE=DURATION:PT1H
X-Robots-Tag:noindex
X-PUBLISHED-TTL:PT1H
BEGIN:VTIMEZONE
TZID:Europe/Budapest
BEGIN:DAYLIGHT
TZOFFSETFROM:+0100
TZOFFSETTO:+0200
TZNAME:CEST
DTSTART:20230326T010000
END:DAYLIGHT
BEGIN:STANDARD
TZOFFSETFROM:+0200
TZOFFSETTO:+0100
TZNAME:CET
DTSTART:20231029T010000
END:STANDARD
BEGIN:DAYLIGHT
TZOFFSETFROM:+0100
TZOFFSETTO:+0200
TZNAME:CEST
DTSTART:20240331T010000
END:DAYLIGHT
BEGIN:STANDARD
TZOFFSETFROM:+0200
TZOFFSETTO:+0100
TZNAME:CET
DTSTART:20241027T010000
END:STANDARD
BEGIN:DAYLIGHT
TZOFFSETFROM:+0100
TZOFFSETTO:+0200
TZNAME:CEST
DTSTART:20250330T010000
END:DAYLIGHT
BEGIN:STANDARD
TZOFFSETFROM:+0200
TZOFFSETTO:+0100
TZNAME:CET
DTSTART:20251026T010000
END:STANDARD
END:VTIMEZONE
BEGIN:VEVENT
DTSTART;TZID=Europe/Budapest:20240306T190000
DTEND;TZID=Europe/Budapest:20240306T220000
DTSTAMP:20260423T071353
CREATED:20240213T194551Z
LAST-MODIFIED:20240213T194707Z
UID:734-1709751600-1709762400@terszinhaz.hu
SUMMARY:Švejk - dark operett\, avagy zenés monarchia sirató
DESCRIPTION:JEGYVÁSÁRLÁS ITT\n  \nŠvejket békés kutyakereskedőként éri az első világháború kitörésének híre törzshelyén\, a prágai Kehely kocsmában\, ahol megjegyzéseiért felségsértés gyanújába kerül. Megjárja a fogdát\, az elmegyógyintézetet\, majd a behívóparancs után a szimulánsok kórházát és a helyőrségi fogdát. Rendíthetetlen kedélyével mindenütt megússza a nehezét: előbb Katz tábori lelkész\, majd Lukaš hadnagy tisztiszolgája lesz. Egy túlbuzgalmából eredő botrány miatt gazdájával együtt a frontra indítják. Az út során – mely Magyarországot is érinti – leszállítják a vonatról\, orosz kémnek nézik\, és emiatt hadbíróság elé is állítják\, de bolond szerencséjével mindent átvészel\, és a frontvonalon újra találkozik szeretett főhadnagyával. \n\nA rendező naplójából: \nHašek klasszikusa talán a legismertebb és legnépszerűbb cseh irodalmi mű Magyarországon\, és éppen emiatt hajlamosak is vagyunk romantizálni annak groteszkbe hajló főhősét. Hovatovább sokan a cseh nemzet egészével azonosítják a švejki lelket\, miközben a csehek – ahogy Patrik Ouředník egyik esszéjében rámutat – egyszerre büszkék erre a hagyományra\, és egyszerre szégyellik azt: „inkább afféle családi albumként kezelik\, amit gondosan elrakva őrzünk a fiók mélyén\, de amit nem szívesen mutogatunk idegeneknek\, vagy csak miután előzetesen kiválogattuk a képeket.” Ahogy a csehekre\, úgy ránk is igaz a művel kapcsolatos skizofrén viszony\, csak míg az előbbi inkább néplélektani\, utóbbi egy ellentétes történelmi nézőpontból fakad. Hiszen hiába veszítjük el közösen a világháborút\, a felbomló monarchia helyén ők új országot nyernek\, mi pedig területeket (részben az ő javukra) veszítünk. Előadásunkban ezt a kettőséget szeretnénk megőrizni úgy\, hogy közben nem sérül a mű alaphumora. Švejk történelmi bolyongása éppen ezért apropó lehet saját közép-európaiságunk felülvizsgálatára is. \nŠvejk: Öller Roland\nKatz: Széplaky Géza\nLukáš: Szondi Tamás\nKatona: Bánföldi Szilárd\nKatona: Csuka János\nKatona: Tóth János Gergely\nAz Örök Nő: Cseke Brigitta\nŠvejk mama: Szamosvári Gyöngyvér\nEgy józanító hang Budapestről: Kovács J. István \nLátvány: Orth M. Dániel\nSzcenika: Perger László\nVideó: Tinordi-Karvaly Bence\nTechnika: Braun Barna\nA rendező munkatársa: Andrási Ágnes\nDalszövegek: Vörös István (József Attila-díjas)\nZenészek: Smokin’ Chimney zenekar\nZeneszerző\, produkciós vezető: Bucz Magor\nMentor: Kozma András\nProjektvezető: Kolti Helga \nRendező: Kaj Ádám \n* Az előadás a DÉRYNÉ Program hozzájárulásával valósul meg. \n  \nJEGYVÁSÁRLÁS ITT
URL:https://terszinhaz.hu/musor/svejk-dark-operett-avagy-zenes-monarchia-sirato/
LOCATION:Térszínház\, Fő tér 1\, Budapest\, Budapest\, 1033\, Magyarország
CATEGORIES:Színház
ATTACH;FMTTYPE=image/jpeg:https://terszinhaz.hu/wp-content/uploads/2024/02/DeryneProgram_Barangolo_Terszinhaz_Svejk_eloadas_20231125_101-scaled.jpg
END:VEVENT
BEGIN:VEVENT
DTSTART;TZID=Europe/Budapest:20240309T160000
DTEND;TZID=Europe/Budapest:20240309T180000
DTSTAMP:20260423T071353
CREATED:20240213T195551Z
LAST-MODIFIED:20241022T122053Z
UID:744-1710000000-1710007200@terszinhaz.hu
SUMMARY:Švejk - dark operett\, avagy zenés monarchia sirató
DESCRIPTION:JEGYVÁSÁRLÁS ITT\n  \nŠvejket békés kutyakereskedőként éri az első világháború kitörésének híre törzshelyén\, a prágai Kehely kocsmában\, ahol megjegyzéseiért felségsértés gyanújába kerül. Megjárja a fogdát\, az elmegyógyintézetet\, majd a behívóparancs után a szimulánsok kórházát és a helyőrségi fogdát. Rendíthetetlen kedélyével mindenütt megússza a nehezét: előbb Katz tábori lelkész\, majd Lukaš hadnagy tisztiszolgája lesz. Egy túlbuzgalmából eredő botrány miatt gazdájával együtt a frontra indítják. Az út során – mely Magyarországot is érinti – leszállítják a vonatról\, orosz kémnek nézik\, és emiatt hadbíróság elé is állítják\, de bolond szerencséjével mindent átvészel\, és a frontvonalon újra találkozik szeretett főhadnagyával. \n\nA rendező naplójából: \nHašek klasszikusa talán a legismertebb és legnépszerűbb cseh irodalmi mű Magyarországon\, és éppen emiatt hajlamosak is vagyunk romantizálni annak groteszkbe hajló főhősét. Hovatovább sokan a cseh nemzet egészével azonosítják a švejki lelket\, miközben a csehek – ahogy Patrik Ouředník egyik esszéjében rámutat – egyszerre büszkék erre a hagyományra\, és egyszerre szégyellik azt: „inkább afféle családi albumként kezelik\, amit gondosan elrakva őrzünk a fiók mélyén\, de amit nem szívesen mutogatunk idegeneknek\, vagy csak miután előzetesen kiválogattuk a képeket.” Ahogy a csehekre\, úgy ránk is igaz a művel kapcsolatos skizofrén viszony\, csak míg az előbbi inkább néplélektani\, utóbbi egy ellentétes történelmi nézőpontból fakad. Hiszen hiába veszítjük el közösen a világháborút\, a felbomló monarchia helyén ők új országot nyernek\, mi pedig területeket (részben az ő javukra) veszítünk. Előadásunkban ezt a kettőséget szeretnénk megőrizni úgy\, hogy közben nem sérül a mű alaphumora. Švejk történelmi bolyongása éppen ezért apropó lehet saját közép-európaiságunk felülvizsgálatára is. \nŠvejk: Öller Roland\nKatz: Széplaky Géza\nLukáš: Szondi Tamás\nKatona: Bánföldi Szilárd\nKatona: Csuka János\nKatona: Tóth János Gergely\nAz Örök Nő: Cseke Brigitta\nŠvejk mama: Szamosvári Gyöngyvér\nEgy józanító hang Budapestről: Kovács J. István \nLátvány: Orth M. Dániel\nSzcenika: Perger László\nVideó: Tinordi-Karvaly Bence\nTechnika: Braun Barna\nA rendező munkatársa: Andrási Ágnes\nDalszövegek: Vörös István (József Attila-díjas)\nZenészek: Smokin’ Chimney zenekar\nZeneszerző\, produkciós vezető: Bucz Magor\nMentor: Kozma András\nProjektvezető: Kolti Helga \nRendező: Kaj Ádám \n* Az előadás a DÉRYNÉ Program hozzájárulásával valósul meg. \n  \nAz előadás része a Térszínház alapító-igazgatójára\, Bucz Hunorra emlékező programsorozatunknak. A programsorozat fő támogatója: Kulturális és Innovációs Minisztérium.  \n  \nJEGYVÁSÁRLÁS ITT
URL:https://terszinhaz.hu/musor/svejk-dark-operett-avagy-zenes-monarchia-sirato-2/
LOCATION:Térszínház\, Fő tér 1\, Budapest\, Budapest\, 1033\, Magyarország
CATEGORIES:Színház
ATTACH;FMTTYPE=image/jpeg:https://terszinhaz.hu/wp-content/uploads/2024/02/DeryneProgram_Barangolo_Terszinhaz_Svejk_eloadas_20231125_101-scaled.jpg
END:VEVENT
BEGIN:VEVENT
DTSTART;TZID=Europe/Budapest:20240310T180000
DTEND;TZID=Europe/Budapest:20240310T193000
DTSTAMP:20260423T071353
CREATED:20240213T200051Z
LAST-MODIFIED:20241022T122837Z
UID:746-1710093600-1710099000@terszinhaz.hu
SUMMARY:Néró\, a véreskezű császár (1979) - archív előadás vetítés
DESCRIPTION:JEGYVÁSÁRLÁS ITT\nA Bucz Hunor Emlékhetek keretében felelevenítjük a több\, mint 50 éves Térszínház múltját és legendás előadásait. A 2022-ben elhunyt alapító-igazgatónk emlékére életrehívott fesztivál célja\, hogy Bucz Hunor életműve megértésre és feldolgozásra kerüljön\, és egyszersmind útravalóul szolgáljon az utódoknak\, színházunk folytatóinak. Három kiemelt archív-előadás vetítésével és köré épülő szakmai beszélgetéssel készülünk. A beszélgetés résztvevői lesznek az előadások létrehozásában aktív szerepet játszó színművészek\, alkotótársak. \nNéró\, a véreskezű császár – 1979\, (a Térszínház saját fejlesztésű előadása) \nAz előadás része a Térszínház alapító-igazgatójára\, Bucz Hunorra emlékező programsorozatunknak. A programsorozat fő támogatója: Kulturális és Innovációs Minisztérium. \n  \nJEGYVÁSÁRLÁS ITT
URL:https://terszinhaz.hu/musor/nero-a-vereskezu-csaszar-1979-archiv-eloadas-vetites/
CATEGORIES:Színház
ATTACH;FMTTYPE=image/jpeg:https://terszinhaz.hu/wp-content/uploads/2024/02/nero-scaled.jpg
END:VEVENT
BEGIN:VEVENT
DTSTART;TZID=Europe/Budapest:20240311T190000
DTEND;TZID=Europe/Budapest:20240311T203000
DTSTAMP:20260423T071353
CREATED:20240213T200511Z
LAST-MODIFIED:20240311T082607Z
UID:749-1710183600-1710189000@terszinhaz.hu
SUMMARY:Homo Szovjetikusz (technikai okok miatt elmarad)
DESCRIPTION:(technikai okok miatt elmarad)
URL:https://terszinhaz.hu/musor/homo-szovjetikusz-8/
LOCATION:Térszínház\, Fő tér 1\, Budapest\, Budapest\, 1033\, Magyarország
CATEGORIES:Színház
ATTACH;FMTTYPE=image/jpeg:https://terszinhaz.hu/wp-content/uploads/2024/02/SLIDER_homo3.jpg
END:VEVENT
BEGIN:VEVENT
DTSTART;TZID=Europe/Budapest:20240312T190000
DTEND;TZID=Europe/Budapest:20240312T200000
DTSTAMP:20260423T071353
CREATED:20240213T200948Z
LAST-MODIFIED:20241022T122930Z
UID:751-1710270000-1710273600@terszinhaz.hu
SUMMARY:Rómeóról és Júliáról
DESCRIPTION:JEGYVÁSÁRLÁS ITT\nA rendező naplójából: \n„A vágynak gátja kőfal nem lehet…” \nTalán sokunk fülében cseng ismerősen a jól ismert mondat Shakespeare egyik leghíresebb művéből. Két fiatal szerelmes\, akik egymásért mindent megtennének. Hiszik\, hogy ha bíznak egymásban\, határ a csillagos ég. De vajon a szerelem jó tanácsadó-e? Mint Illés szekere gyors\, hevesebb lángra kapnak tőle az emberi szívek. A szerelemmel való találkozás az egyik olyan pillanat az életben ahol egészen más ritmust kap a létezésünk. A másik ilyen pillanat a halállal való találkozás. Mind a kettő szelleme jócskán belengi az előadás világát. A két fiatal\, Rómeó és Júlia talán idejekorán találkozik mind a kettővel. Mi lett volna ha ez máshogyan alakul? \nSzereposztás \nPÁRIS\, ifjú nemesúrfi\, a herceg atyafia: Kecskeméti Róbert\nRÓMEÓ\, Montague fia: Szondi Tamás\nMERCUTIO\, a herceg rokona\, Rómeó barátja:\nCsuka János\nBENVOLIO\, a herceg rokona\, Rómeó barátja:\nKecskeméti Róbert\nTYBALT\, Capuletné unokaöccse: Téglás Márton\nLŐRINC\, Ferences barát:\nStubnya Béla\nJÚLIA\, Capuleték leánya: Kelecsényi Panni\nJÚLIA DAJKÁJA: Szamosvári Gyöngyvér\nHALÁL-ANGYAL: Papp Annamária \nZENÉSZEK: Riesz Péter (gitár)\, Bucz Magor (billentyű\, elektronika) \nPRODUKCIÓS VEZETŐ\, ZENESZERZŐ: Bucz Magor\nDRAMATURG: Pintér Károly \nRENDEZŐ: Tóth János Gergely \nAz előadás része a Térszínház alapító-igazgatójára\, Bucz Hunorra emlékező programsorozatunknak. A programsorozat fő támogatója: Kulturális és Innovációs Minisztérium. \n  \nJEGYVÁSÁRLÁS ITT
URL:https://terszinhaz.hu/musor/romeorol-es-juliarol-6/
LOCATION:Térszínház\, Fő tér 1\, Budapest\, Budapest\, 1033\, Magyarország
CATEGORIES:Színház
ATTACH;FMTTYPE=image/jpeg:https://terszinhaz.hu/wp-content/uploads/2024/02/rj_hir.jpg
END:VEVENT
BEGIN:VEVENT
DTSTART;TZID=Europe/Budapest:20240313T190000
DTEND;TZID=Europe/Budapest:20240313T220000
DTSTAMP:20260423T071353
CREATED:20240213T201501Z
LAST-MODIFIED:20241022T122932Z
UID:753-1710356400-1710367200@terszinhaz.hu
SUMMARY:Antigoné
DESCRIPTION:JEGYVÁSÁRLÁS ITT\nSzophoklész Antigonéját 1996-ban mutattuk be\, a fokozott érdeklődésre való tekintettel\, azóta is folyamatosan műsoron tartjuk. Rendezője\, a Jászai Mari-díjas Bucz Hunor 2022-ben eltávozott közülünk\, így az előadás felújításának és életben tartásának feladata az itt maradt művésztársakra szállt. Nagy örömünkre\nKaj Ádám\, mint a felújítórendező munkatársa és Eperjes Károly\, Kossuth- és Jászai-díjas művész\, mint felújítórendező vesz részt a produkcióban. Mindketten személyes kapcsolatot ápoltak Bucz Hunorral\, színházi nyelvének és ars poeticájának értő tolmácsolói. A felújított előadásban 3 új színművészt is köszönthetünk: Kelecsényi Pannit\, Wettstein Márkot és Szakács Tibort. \n\nA rendező naplójából: \nAz állam és az egy szem emberi lény egymást megtűrő együttélése sikertelen.\nAz emberiség története dicstelen kísérletek sora. Az állam ethosza és az ember méltósága kibékíthetetlenül szemben állnak. Jaj annak\, aki megtestesíteni készül bármelyiket… Jaj Kreónnak és jaj Antigonénak. A teremtés bűne ez. \n“Kreón: Holtan se méltó szeretetre gyűlölőnk.\nAntigoné: Az én vezérem szeretet\, nem gyűlölet.\nKreón: Vezéreljen az Alvilágba: ott szeress!” \nSzereposztás\, alkotók: \nAntigoné: Papp Annamária\nTeiresziász\, Iszméné: Kelecsényi Panni (két szerepben)\nŐr: Csuka János\nHaimon: Wettstein Márk\nKreón: Téglás Márton\nKarvezető: Szakács tibor\nThébai vének: Kecskeméti Róbert\, Wettstein Márk\, Szamosvári Gyöngyvér \nMaszk: Perger László\nJelmez: Zanotta Veronika\nÁrnykép: Kovács J. István\nFény: Braun Barna\nAsszisztens: Orbán Estilla \nProdukciós vezető: Bucz Magor (Junior Prima-díjas)\nA felújítórendező munkatársa: Kaj Ádám \nFelújítórendező: Eperjes Károly (Kossuth- és Jászai-díjas) \nRendezte: Bucz Hunor (Jászai-díjas) \nAz előadás része a Térszínház alapító-igazgatójára\, Bucz Hunorra emlékező programsorozatunknak. A programsorozat fő támogatója: Kulturális és Innovációs Minisztérium.  \nJEGYVÁSÁRLÁS ITT
URL:https://terszinhaz.hu/musor/antigone-8/
LOCATION:Térszínház\, Fő tér 1\, Budapest\, Budapest\, 1033\, Magyarország
CATEGORIES:Színház
ATTACH;FMTTYPE=image/jpeg:https://terszinhaz.hu/wp-content/uploads/2024/02/antigone_6.jpg
END:VEVENT
BEGIN:VEVENT
DTSTART;TZID=Europe/Budapest:20240316T110000
DTEND;TZID=Europe/Budapest:20240316T220000
DTSTAMP:20260423T071353
CREATED:20240213T201823Z
LAST-MODIFIED:20241022T123002Z
UID:762-1710586800-1710626400@terszinhaz.hu
SUMMARY:"Függönyünk sose volt" - egésznapos vetítésmaraton a Térszínház félévszázados múltjából
DESCRIPTION:Néró\, a véreskezű császár (1979) – archív előadás vetítés \n“Függönyünk sose volt!” – A Térszínház alapító-igazgatójának\, művészi önmeghatározásnak is beillő jelmondatát választottuk múltidéző vetítésmaratonunk címéül. \nA Bucz Hunor Emlékhetek rendezvénysorozat keretében felelevenítjük a több\, mint 50 éves Térszínház múltját és legendás előadásait. \nAz egésznapos esemény alkalmával archív előadások\, interjúk\, dokumentumfilmek vetítésével készülünk. Délelőtt 11 órától este 22 óráig várjuk az érdeklődőket. \nA vetítések között tea mellett oszthatjuk meg egymással gondolatainkat\, értékelhetjük a látottakat\, idézhetjük fel a múlt emlékezetes pillanatait. \n11.00-13.00 = Savaria történelmi karnevál\n13.00-14.00 = Aiszóposz-Heltai: Állati mesék\n14.00-16.00 = Vörösmarty: A bujdosók (ősbemutató)\n16.00-18.00 = Mrożek: Vatzlav\n18.00-19.30 = Csokonai: Karnyóné\n19.30-20.00 = A Térszínház Szatmárhegyen – dokumentumfilm\n20.00-22.00 = Beckett: Godot-ra várva \nAz előadás része a Térszínház alapító-igazgatójára\, Bucz Hunorra emlékező programsorozatunknak. A programsorozat fő támogatója: Kulturális és Innovációs Minisztérium.
URL:https://terszinhaz.hu/musor/fuggonyunk-sose-volt-egesznapos-vetitesmaraton-a-terszinhaz-felevszazados-multjabol/
CATEGORIES:Színház
ATTACH;FMTTYPE=image/jpeg:https://terszinhaz.hu/wp-content/uploads/2024/02/fuggonyunk_sose_volt-scaled.jpg
END:VEVENT
BEGIN:VEVENT
DTSTART;TZID=Europe/Budapest:20240320T143000
DTEND;TZID=Europe/Budapest:20240320T153000
DTSTAMP:20260423T071353
CREATED:20240213T202308Z
LAST-MODIFIED:20241022T123024Z
UID:765-1710945000-1710948600@terszinhaz.hu
SUMMARY:A Holdbeli csónakos
DESCRIPTION:JEGYVÁSÁRLÁS ITT\nWeöres Sándor műve nyomán: A holdbeli csónakos \nAz előadás során Vitéz László és felesége\, Markotányos Rózsi történelmi viharok közepette vezetik közönségünket a mitikus őshazába\, hogy Pávaszem és Medvefia szerelmi kalandjáról\, bujdosásáról\, hányattatásáról és egymásra találásáról meséljenek. Weöres Sándor eredetileg nagyszínpadra írt\, sokszereplős művét\, a szerző személyes egyetértésével háromszereplős\, többdimenziós kamaradarabbá formáltuk: a színészek képmutogató-\, és élőjátékkal\, valamint bábokkal keltik életre a történet fordulatos cselekményét\, helyszíneit és közel két tucat szereplőjét. A Jászai Mari-díjas Bucz Hunor által rendezett előadás 34. évada látható színpadunkon. Bucz Hunor és a Térszínház társulata személyes kapcsolatot ápolt a szerzővel\, aki 1989-ben látta feldolgozásunkat\, és nagy örömünkre azt mondhatjuk\, módfelett elnyerte tetszését. \nElőadás után színpadbejárást tartunk\, ahol nézőink színészeinkkel közösen fedezhetik fel a darab kellékeit és díszleteit \nJátsszák: Kovács J. István\, Szamosvári Gyöngyvér\, Szűcs Réka\nSzcenika: Krizbai Judit\nRendezte: BUCZ HUNOR (Jászai Mari-díjas) \n  \nAz előadás része a Térszínház alapító-igazgatójára\, Bucz Hunorra emlékező programsorozatunknak. A programsorozat fő támogatója: Kulturális és Innovációs Minisztérium.  \nJEGYVÁSÁRLÁS ITT
URL:https://terszinhaz.hu/musor/a-holdbeli-csonakos/
LOCATION:Térszínház\, Fő tér 1\, Budapest\, Budapest\, 1033\, Magyarország
CATEGORIES:Színház
ATTACH;FMTTYPE=image/jpeg:https://terszinhaz.hu/wp-content/uploads/2023/10/3.jpeg
END:VEVENT
BEGIN:VEVENT
DTSTART;TZID=Europe/Budapest:20240321T190000
DTEND;TZID=Europe/Budapest:20240321T210000
DTSTAMP:20260423T071353
CREATED:20240314T092037Z
LAST-MODIFIED:20241022T123045Z
UID:1010-1711047600-1711054800@terszinhaz.hu
SUMMARY:A madarak tanácskozása (1982) - archív előadás vetítés
DESCRIPTION:A Bucz Hunor Emlékhetek keretében felelevenítjük a több\, mint 50 éves Térszínház múltját és legendás előadásait. A 2022-ben elhunyt alapító-igazgatónk emlékére életrehívott fesztivál célja\, hogy Bucz Hunor életműve megértésre és feldolgozásra kerüljön\, és egyszersmind \nútravalóul szolgáljon az utódoknak\, színházunk folytatóinak. Három kiemelt archív-előadás vetítésével és köré épülő szakmai beszélgetéssel készülünk. A beszélgetés résztvevői lesznek az előadások létrehozásában aktív szerepet játszó színművészek\, alkotótársak. \nFerid Ed Din Attar: A madarak tanácskozása – 1982 \nAz előadás része a Térszínház alapító-igazgatójára\, Bucz Hunorra emlékező programsorozatunknak. A programsorozat fő támogatója: Kulturális és Innovációs Minisztérium.  \nJEGYVÁSÁRLÁS ITT
URL:https://terszinhaz.hu/musor/a-madarak-tanacskozasa-1982-archiv-eloadas-vetites/
LOCATION:Térszínház\, Fő tér 1\, Budapest\, Budapest\, 1033\, Magyarország
ATTACH;FMTTYPE=image/jpeg:https://terszinhaz.hu/wp-content/uploads/2024/03/madarak_tanacskozasa.jpg
END:VEVENT
BEGIN:VEVENT
DTSTART;TZID=Europe/Budapest:20240322T190000
DTEND;TZID=Europe/Budapest:20240322T213000
DTSTAMP:20260423T071353
CREATED:20240314T091035Z
LAST-MODIFIED:20241022T123109Z
UID:1008-1711134000-1711143000@terszinhaz.hu
SUMMARY:Weöres Sándor: A kétfejű fenevad (1983) archív előadás vetítés
DESCRIPTION:A Bucz Hunor Emlékhetek keretében felelevenítjük a több\, mint 50 éves Térszínház múltját és legendás előadásait. A 2022-ben elhunyt alapító-igazgatónk emlékére életrehívott fesztivál célja\, hogy Bucz Hunor életműve megértésre és feldolgozásra kerüljön\, és egyszersmind \nútravalóul szolgáljon az utódoknak\, színházunk folytatóinak. Három kiemelt archív-előadás vetítésével és köré épülő szakmai beszélgetéssel készülünk. A beszélgetés résztvevői lesznek az előadások létrehozásában aktív szerepet játszó színművészek\, alkotótársak. \nWeöres Sándor: A kétfejű fenevad –1983\, (a Térszínház ősbemutatója) \nAz előadás része a Térszínház alapító-igazgatójára\, Bucz Hunorra emlékező programsorozatunknak. A programsorozat fő támogatója: Kulturális és Innovációs Minisztérium.  \nJEGYVÁSÁRLÁS ITT
URL:https://terszinhaz.hu/musor/weores-sandor-a-ketfeju-fenevad-1983-archiv-eloadas-vetites/
CATEGORIES:Irodalom
ATTACH;FMTTYPE=image/jpeg:https://terszinhaz.hu/wp-content/uploads/2024/02/fuggonyunk_sose_volt-scaled.jpg
END:VEVENT
BEGIN:VEVENT
DTSTART;VALUE=DATE:20240323
DTEND;VALUE=DATE:20240324
DTSTAMP:20260423T071353
CREATED:20240213T204918Z
LAST-MODIFIED:20241022T123129Z
UID:769-1711152000-1711238399@terszinhaz.hu
SUMMARY:A Térszínház a Budapesti Színházak Éjszakáján - részletes program
DESCRIPTION:15:00 – Pinkó és a szegényember – bukovinai székely népmese nyomán\nPinkó\, az ördög fia nagy árat fizet azért\, mert torkosságában megette a szegényember puliszkáját. Varázslatos erejével szolgálja három évig\, és így busásan megtérül a szegényember kára. A mese tanulsága\, hogy “Bizony\, bizony sokszor még az ördög fia is tisztességesebb\, mint egynémely mai uraság.” 7 éves kortól ajánljuk.\nElőadás után színpadbejárás és gyermektáncház.\nJátsszák: Kecskeméti Róbert\, Téglás Márton\, Bódi Beáta\, Kovács J. István\, Szamosvári Gyöngyvér.\nRendezte: Bucz Hunor /Jászai-díjas/ \nJEGYVÁSÁRLÁS ITT\n19:00 – Antigoné\nSzophoklész Antigonéját 1996-ban mutattuk be\, a fokozott érdeklődésre való tekintettel\, azóta is folyamatosan műsoron tartjuk. Rendezője\, a Jászai Mari-díjas Bucz Hunor\, aki 2022-ben eltávozott közülünk\, így az előadás életben tartásának feladata az itt maradottakra szállt. Eperjes Károly\, Kossuth- és Jászai-díjas művész\, mint felújítórendező vette szárnyai alá a produkciót.\nA rendező naplójából: Az állam és az egy szem emberi lény egymást megtűrő együttélése sikertelen. Az emberiség története dicstelen kísérletek sora. Az állam ethosza és az ember méltósága kibékíthetetlenül szemben állnak. Jaj annak\, aki megtestesíteni készül bármelyiket… A teremtés bűne ez. Jaj Kreónnak és jaj Antigonénak.\nSzereposztás:\nAntigoné: Papp Annamária\nTeiresziász\, Iszméné: Kelecsényi Panni (két szerepben)\nŐr: Csuka János\nHaimon: Wettstein Márk\nKreón: Téglás Márton\nKarvezető: Szakács tibor\nThébai vének: Kecskeméti Róbert\, Wettstein Márk\, Szamosvári Gyöngyvér\nMaszk: Perger László\nJelmez: Zanotta Veronika\nÁrnykép: Kovács J. István\nFény: Braun Barna\nAsszisztens: Orbán Estilla\nProdukciós vezető: Bucz Magor (Junior Prima-díjas)\nA felújítórendező munkatársa: Kaj Ádám\nFelújítórendező: Eperjes Károly (Kossuth- és Jászai-díjas)\nRendezte: Bucz Hunor (Jászai-díjas) \nJEGYVÁSÁRLÁS ITT\n22:00 MOODS – relaxing / post-classical babzsákkoncert\nBucz Magor Junior Prima-díjas zeneszerző és zongorista MOODS-sorozata egy improvizatív elemekre épülő\, kötetlen zenei napló. Benne ötvöződik a relaxációs\, ambient\, chill out\, minimalista hangvétel a klasszikuszenei és filmzenei eszköztárral\, valamint elektroakusztikus atmoszférákkal. Így képződik meg egy relatív új\, meditatív jellegű kortárszenei irányzat: a posztklasszikus stílus.\nA mintegy 70 perces szeánsz szerű hangverseny célja\, hogy nyugalmas\, relaxált állapotba kerülve találjanak egymásra előadók és hallgatóság. Babzsákokra is lehet heverni\, hogy maximális kényelemben fogadhassuk be a megnyugtató zenéket és zenei alapokra elhangzó verseket. A koncert segít magunk mögött hagyni a stresszes hétköznapokat és tökéletes lehet napzáró eseménynek.\nKözreműködnek:\nHotzi Mátyás /Junior Prima-díjas/ – cselló\nRiesz Péter – gitár\nOrban Johanna – ének\nBucz Magor /Junior Prima-díjas/ – zeneszerző\, zongora\, elektronika \n  \nAz előadás része a Térszínház alapító-igazgatójára\, Bucz Hunorra emlékező programsorozatunknak. A programsorozat fő támogatója: Kulturális és Innovációs Minisztérium.  \nJEGYVÁSÁRLÁS ITT
URL:https://terszinhaz.hu/musor/a-terszinhaz-a-budapesti-szinhazak-ejszakajan-reszletes-program/
CATEGORIES:Színház
ATTACH;FMTTYPE=image/jpeg:https://terszinhaz.hu/wp-content/uploads/2024/02/budapesti-szinhazak-ejszakaja-2024-karszalagra-bevaltando-belepo-original-226096.jpg
END:VEVENT
BEGIN:VEVENT
DTSTART;TZID=Europe/Budapest:20240324T180000
DTEND;TZID=Europe/Budapest:20240324T193000
DTSTAMP:20260423T071353
CREATED:20240301T142958Z
LAST-MODIFIED:20241022T123149Z
UID:896-1711303200-1711308600@terszinhaz.hu
SUMMARY:Bucz Hunor színházpedagógiai munkássága egy pályatárs\, Kovács J. István szemével
DESCRIPTION:Cselekményvázlat\, testépítés\, meserögtönzés\, Commedia dell’ arte\, színházi forradalom\, devised színház\, gyerek- és felnőtt tábor a Bükkben\, a találkozás tanítása\, népdalok\, népi dramatikus játék\, beszédképzés\, akolmeleg és a szentlélek\, lakótelepi játék\, akrobatika… A dramatikus játékformák kaleidoszkópszerű felidézése közben száz ilyen fogalom bukkan fel a Térszínház hőskorából (70-es\, 80-as\, 90-es évek)\, ami a régiek számára emlék és tapasztalat\, a fiatalok számára talán új ismeret a múltból. Közreműködik Szamosvári Gyöngyvér. Szeretettel vár minden érdeklődőt Kovács J. István. \nAz előadás része a Térszínház alapító-igazgatójára\, Bucz Hunorra emlékező programsorozatunknak. A programsorozat fő támogatója: Kulturális és Innovációs Minisztérium.  \nJEGYVÁSÁRLÁS ITT
URL:https://terszinhaz.hu/musor/bucz-hunor-szinhazpedagogiai-munkassaga-egy-palyatars-kovacs-j-istvan-szemevel/
LOCATION:Térszínház\, Fő tér 1\, Budapest\, Budapest\, 1033\, Magyarország
CATEGORIES:Irodalom,Színház
ATTACH;FMTTYPE=image/jpeg:https://terszinhaz.hu/wp-content/uploads/2024/03/Istvan-eloadas-borito.jpg
END:VEVENT
BEGIN:VEVENT
DTSTART;TZID=Europe/Budapest:20240325T190000
DTEND;TZID=Europe/Budapest:20240325T203000
DTSTAMP:20260423T071353
CREATED:20240301T143903Z
LAST-MODIFIED:20241022T123210Z
UID:900-1711393200-1711398600@terszinhaz.hu
SUMMARY:A kereszt alatt – húsvéti szcenírozott oratórium
DESCRIPTION:Ha az évkör ünnepeire gondot fordítunk\, sokat teszünk azért\, hogy otthon érezzük magunkat a világban. Ennek szellemében született a Térszínház koncertszínházi szcenírozott oratóriuma\, amely Szűz Mária fájdalmát helyezi a középpontba. Az előadásban életre kel a Winkler-kódex devóciós passiója: a Mária-siralom (1506)\, valamint fiatal zeneművészek tolmácsolásában elhangzik Pergolesi Stabat Mater című oratóriuma. Az előadáson a Térszínház 2022-ben elhunyt alapító igazgatójára\, Bucz Hunorra is emlékezünk. \nKözreműködők: \nSzínèsz – Szamosvári Gyöngyvér\nSzínész – Téglás Márton\nSzoprán – Kalafszky Adriána\nKontratenor – Daragó Zoltán\nAz oratóriumban közreműködik a MilleniArt Ensemble barokk zenekara Király Eszter vezényletével. \nSzínpadkép – Perger László Gyula\nZenei vezető – Bucz Magor (Junior Prima-díjas) \nRendező – Bucz Hunor (Jászai Mari-díjas) \nAz előadás része a Térszínház alapító-igazgatójára\, Bucz Hunorra emlékező programsorozatunknak. A programsorozat fő támogatója: Kulturális és Innovációs Minisztérium.  \nJEGYVÁSÁRLÁS ITT
URL:https://terszinhaz.hu/musor/a-kereszt-alatt-husveti-szcenirozott-oratorium/
CATEGORIES:Színház,Zene
ATTACH;FMTTYPE=image/jpeg:https://terszinhaz.hu/wp-content/uploads/2024/03/A-kereszt-alatt.jpg
END:VEVENT
BEGIN:VEVENT
DTSTART;TZID=Europe/Budapest:20240328T190000
DTEND;TZID=Europe/Budapest:20240328T203000
DTSTAMP:20260423T071353
CREATED:20240213T203850Z
LAST-MODIFIED:20241022T125303Z
UID:767-1711652400-1711657800@terszinhaz.hu
SUMMARY:A Vigéc
DESCRIPTION:JEGYVÁSÁRLÁS ITT\nA rendező naplójából: \nPáskándi Géza A vigéc című zord bohózatában nemzeti megmaradásunkról\, hagyományaink\, értékeink megőrzéséről szól. Az abszurdoid középpontjában egy család áll. Töredékes család. Korosodó házaspár és egy szem leányuk. Köznapi életüket egy jövevény\, egy kereskedelmi utazó\, egy háztartási gépekkel házaló vigéc zavarja fel.\nEz a törpe\, ez a zsugorított Mefisztó a jobb élet reményéért cserébe nagy árat kér tőlük. Anyanyelvük\, történelmük\, kultúrájuk elfelejtését. \nA dráma zord bohózat. Pillanatkép történelmi létünk képtelenségéről. Szemléletét hitvitázó drámáink élessége és a székely viccek akasztófahumora jellemzi. Az író gyötrelmesen éli meg művében a magyarság fenyegetettségét\, de van benne annyi kurázsi\, hogy a magyar dal hősét kövesse: mikor immár halálfia\, ránk nevet mégis.\nPáskándi darabjának időszerűsége aligha kétséges\, ízig-vérig mai\, sokat merít a kommedia dell’arte hagyományaiból. \nNE FOGJA ŐT A FELEDÉS! \nPénzes Ciprián\, kereskedelmi utazó – Csuka János\nKádas József\, nyugdíjas – Janik László\nMargit\, a neje – Szamosvári Gyöngyvér\nZsuzsa\, a lányuk – Kelecsényi Panni\nSzunnyai\, az albérlőjük – Téglás Márton \nTechnika: Braun Barna \nRendezte – Bucz Hunor (Jászai Mari-díjas) \n  \nAz előadás része a Térszínház alapító-igazgatójára\, Bucz Hunorra emlékező programsorozatunknak. A programsorozat fő támogatója: Kulturális és Innovációs Minisztérium.  \nJEGYVÁSÁRLÁS ITT
URL:https://terszinhaz.hu/musor/a-vigec-4/
LOCATION:Térszínház\, Fő tér 1\, Budapest\, Budapest\, 1033\, Magyarország
CATEGORIES:Színház
ATTACH;FMTTYPE=image/jpeg:https://terszinhaz.hu/wp-content/uploads/2024/02/a_veggice_cover.jpg
END:VEVENT
END:VCALENDAR