BEGIN:VCALENDAR
VERSION:2.0
PRODID:-//Térszínház - ECPv6.15.11//NONSGML v1.0//EN
CALSCALE:GREGORIAN
METHOD:PUBLISH
X-ORIGINAL-URL:https://terszinhaz.hu
X-WR-CALDESC:Események Térszínház
REFRESH-INTERVAL;VALUE=DURATION:PT1H
X-Robots-Tag:noindex
X-PUBLISHED-TTL:PT1H
BEGIN:VTIMEZONE
TZID:Europe/Budapest
BEGIN:DAYLIGHT
TZOFFSETFROM:+0100
TZOFFSETTO:+0200
TZNAME:CEST
DTSTART:20230326T010000
END:DAYLIGHT
BEGIN:STANDARD
TZOFFSETFROM:+0200
TZOFFSETTO:+0100
TZNAME:CET
DTSTART:20231029T010000
END:STANDARD
BEGIN:DAYLIGHT
TZOFFSETFROM:+0100
TZOFFSETTO:+0200
TZNAME:CEST
DTSTART:20240331T010000
END:DAYLIGHT
BEGIN:STANDARD
TZOFFSETFROM:+0200
TZOFFSETTO:+0100
TZNAME:CET
DTSTART:20241027T010000
END:STANDARD
BEGIN:DAYLIGHT
TZOFFSETFROM:+0100
TZOFFSETTO:+0200
TZNAME:CEST
DTSTART:20250330T010000
END:DAYLIGHT
BEGIN:STANDARD
TZOFFSETFROM:+0200
TZOFFSETTO:+0100
TZNAME:CET
DTSTART:20251026T010000
END:STANDARD
END:VTIMEZONE
BEGIN:VEVENT
DTSTART;TZID=Europe/Budapest:20240708T080000
DTEND;TZID=Europe/Budapest:20240708T170000
DTSTAMP:20260423T005959
CREATED:20240501T053323Z
LAST-MODIFIED:20240501T053323Z
UID:1228-1720425600-1720458000@terszinhaz.hu
SUMMARY:Svejk - Nagyorosziban
DESCRIPTION:Részletek hamarosan!
URL:https://terszinhaz.hu/musor/svejk-nagyorosziban/
CATEGORIES:Színház
ATTACH;FMTTYPE=image/jpeg:https://terszinhaz.hu/wp-content/uploads/2024/02/svjekcover.jpg
END:VEVENT
BEGIN:VEVENT
DTSTART;TZID=Europe/Budapest:20240711T080000
DTEND;TZID=Europe/Budapest:20240711T170000
DTSTAMP:20260423T005959
CREATED:20240501T053435Z
LAST-MODIFIED:20240501T053435Z
UID:1230-1720684800-1720717200@terszinhaz.hu
SUMMARY:Svejk - Tisza Teátrum\, Szeged
DESCRIPTION:Részletek hamarosan!
URL:https://terszinhaz.hu/musor/svejk-tisza-teatrum-szeged/
CATEGORIES:Színház
ATTACH;FMTTYPE=image/jpeg:https://terszinhaz.hu/wp-content/uploads/2024/02/svjekcover.jpg
END:VEVENT
END:VCALENDAR